Package: SpacePAC Version: 1.45.1 Command: F:\biocbuild\bbs-3.22-bioc\R\bin\R.exe CMD check --no-multiarch --install=check:SpacePAC.install-out.txt --library=F:\biocbuild\bbs-3.22-bioc\R\library --no-vignettes --timings SpacePAC_1.45.1.tar.gz StartedAt: 2025-04-09 07:04:07 -0400 (Wed, 09 Apr 2025) EndedAt: 2025-04-09 07:06:36 -0400 (Wed, 09 Apr 2025) EllapsedTime: 148.8 seconds RetCode: 0 Status: OK CheckDir: SpacePAC.Rcheck Warnings: 0