Package: SpacePAC Version: 1.45.1 Command: chmod a+r SpacePAC -R && F:\biocbuild\bbs-3.22-bioc\R\bin\R.exe CMD build --keep-empty-dirs --no-resave-data SpacePAC StartedAt: 2025-04-08 22:30:32 -0400 (Tue, 08 Apr 2025) EndedAt: 2025-04-08 22:31:41 -0400 (Tue, 08 Apr 2025) EllapsedTime: 68.9 seconds RetCode: 0 Status: OK PackageFile: SpacePAC_1.45.1.tar.gz PackageFileSize: 1.699 MiB