Package: SpaceMarkers Version: 1.5.0 Command: F:\biocbuild\bbs-3.22-bioc\R\bin\R.exe CMD INSTALL SpaceMarkers StartedAt: 2025-07-24 15:40:35 -0400 (Thu, 24 Jul 2025) EndedAt: 2025-07-24 15:41:15 -0400 (Thu, 24 Jul 2025) EllapsedTime: 40.2 seconds RetCode: 0 Status: OK