Package: SpaceMarkers Version: 1.5.0 Command: chmod a+r SpaceMarkers -R && F:\biocbuild\bbs-3.22-bioc\R\bin\R.exe CMD build --keep-empty-dirs --no-resave-data SpaceMarkers StartedAt: 2025-07-24 22:28:15 -0400 (Thu, 24 Jul 2025) EndedAt: 2025-07-24 22:34:34 -0400 (Thu, 24 Jul 2025) EllapsedTime: 378.6 seconds RetCode: 0 Status: OK PackageFile: SpaceMarkers_1.5.0.tar.gz PackageFileSize: 2.751 MiB