Package: SpaceMarkers Version: 1.5.0 Command: rm -rf SpaceMarkers.buildbin-libdir && mkdir SpaceMarkers.buildbin-libdir && /Users/biocbuild/BBS/utils/build-universal.sh SpaceMarkers_1.5.0.tar.gz /Library/Frameworks/R.framework/Resources/bin/R SpaceMarkers.buildbin-libdir StartedAt: 2025-07-15 22:37:46 -0400 (Tue, 15 Jul 2025) EndedAt: 2025-07-15 22:37:51 -0400 (Tue, 15 Jul 2025) EllapsedTime: 5.1 seconds RetCode: 0 Status: OK PackageFile: SpaceMarkers_1.5.0.tgz PackageFileSize: 3.058 MiB