Package: SpaNorm Version: 1.3.0 Command: /Library/Frameworks/R.framework/Resources/bin/R CMD check --install=check:SpaNorm.install-out.txt --library=/Library/Frameworks/R.framework/Resources/library --no-vignettes --timings SpaNorm_1.3.0.tar.gz StartedAt: 2025-07-01 21:31:59 -0400 (Tue, 01 Jul 2025) EndedAt: 2025-07-01 21:32:42 -0400 (Tue, 01 Jul 2025) EllapsedTime: 43.6 seconds RetCode: 0 Status: OK CheckDir: SpaNorm.Rcheck Warnings: 0