Package: SpaNorm Version: 1.3.0 Command: /Library/Frameworks/R.framework/Resources/bin/R CMD build --keep-empty-dirs --no-resave-data SpaNorm StartedAt: 2025-07-01 17:37:53 -0400 (Tue, 01 Jul 2025) EndedAt: 2025-07-01 17:40:21 -0400 (Tue, 01 Jul 2025) EllapsedTime: 148.7 seconds RetCode: 0 Status: OK PackageFile: SpaNorm_1.3.0.tar.gz PackageFileSize: 7.477 MiB