Package: Site2Target Version: 1.1.0 Command: /Library/Frameworks/R.framework/Resources/bin/R CMD INSTALL Site2Target StartedAt: 2025-07-09 15:19:38 -0400 (Wed, 09 Jul 2025) EndedAt: 2025-07-09 15:19:39 -0400 (Wed, 09 Jul 2025) EllapsedTime: 1.2 seconds RetCode: 0 Status: OK