Package: Site2Target Version: 1.1.0 Command: /Library/Frameworks/R.framework/Resources/bin/R CMD check --install=check:Site2Target.install-out.txt --library=/Library/Frameworks/R.framework/Resources/library --no-vignettes --timings Site2Target_1.1.0.tar.gz StartedAt: 2025-07-11 21:29:39 -0400 (Fri, 11 Jul 2025) EndedAt: 2025-07-11 21:30:10 -0400 (Fri, 11 Jul 2025) EllapsedTime: 31.4 seconds RetCode: 0 Status: OK CheckDir: Site2Target.Rcheck Warnings: 0