############################################################################## ############################################################################## ### ### Running command: ### ### /Library/Frameworks/R.framework/Resources/bin/R CMD build --keep-empty-dirs --no-resave-data Site2Target ### ############################################################################## ############################################################################## * checking for file ‘Site2Target/DESCRIPTION’ ... OK * preparing ‘Site2Target’: * checking DESCRIPTION meta-information ... OK * installing the package to build vignettes * creating vignettes ... OK * checking for LF line-endings in source and make files and shell scripts * checking for empty or unneeded directories Omitted ‘LazyData’ from DESCRIPTION * building ‘Site2Target_1.1.0.tar.gz’