Package: SingleR Version: 2.11.3 Command: /home/biocbuild/R/R/bin/R CMD build --keep-empty-dirs --no-resave-data SingleR StartedAt: 2025-07-18 03:11:08 -0000 (Fri, 18 Jul 2025) EndedAt: 2025-07-18 03:13:32 -0000 (Fri, 18 Jul 2025) EllapsedTime: 144.1 seconds RetCode: 0 Status: OK PackageFile: SingleR_2.11.3.tar.gz PackageFileSize: 553.1 KiB