Package: SingleR Version: 2.11.3 Command: /home/biocbuild/bbs-3.22-bioc/R/bin/R CMD build --keep-empty-dirs --no-resave-data --md5 SingleR StartedAt: 2025-07-14 19:16:23 -0400 (Mon, 14 Jul 2025) EndedAt: 2025-07-14 19:18:11 -0400 (Mon, 14 Jul 2025) EllapsedTime: 108.2 seconds RetCode: 0 Status: OK PackageFile: SingleR_2.11.3.tar.gz PackageFileSize: 679.2 KiB