Package: SingleR Version: 2.11.3 Command: /Library/Frameworks/R.framework/Resources/bin/R CMD INSTALL SingleR StartedAt: 2025-07-16 15:19:13 -0400 (Wed, 16 Jul 2025) EndedAt: 2025-07-16 15:20:25 -0400 (Wed, 16 Jul 2025) EllapsedTime: 72.2 seconds RetCode: 0 Status: OK