Package: SingleR Version: 2.11.3 Command: /Library/Frameworks/R.framework/Resources/bin/R CMD INSTALL SingleR StartedAt: 2025-07-21 15:11:43 -0400 (Mon, 21 Jul 2025) EndedAt: 2025-07-21 15:12:02 -0400 (Mon, 21 Jul 2025) EllapsedTime: 19.8 seconds RetCode: 0 Status: OK