Package: SingleR Version: 2.11.3 Command: /Library/Frameworks/R.framework/Resources/bin/R CMD check --install=check:SingleR.install-out.txt --library=/Library/Frameworks/R.framework/Resources/library --no-vignettes --timings SingleR_2.11.3.tar.gz StartedAt: 2025-07-21 21:33:49 -0400 (Mon, 21 Jul 2025) EndedAt: 2025-07-21 21:35:25 -0400 (Mon, 21 Jul 2025) EllapsedTime: 96.2 seconds RetCode: 0 Status: OK CheckDir: SingleR.Rcheck Warnings: 0