Package: SingleR Version: 2.11.3 Command: /Library/Frameworks/R.framework/Resources/bin/R CMD build --keep-empty-dirs --no-resave-data SingleR StartedAt: 2025-07-21 17:36:08 -0400 (Mon, 21 Jul 2025) EndedAt: 2025-07-21 17:36:52 -0400 (Mon, 21 Jul 2025) EllapsedTime: 43.6 seconds RetCode: 0 Status: OK PackageFile: SingleR_2.11.3.tar.gz PackageFileSize: 742.9 KiB