Package: SingleR Version: 2.11.3 Command: rm -rf SingleR.buildbin-libdir && mkdir SingleR.buildbin-libdir && /Users/biocbuild/BBS/utils/build-universal.sh SingleR_2.11.3.tar.gz /Library/Frameworks/R.framework/Resources/bin/R SingleR.buildbin-libdir StartedAt: 2025-07-21 22:42:05 -0400 (Mon, 21 Jul 2025) EndedAt: 2025-07-21 22:42:27 -0400 (Mon, 21 Jul 2025) EllapsedTime: 21.4 seconds RetCode: 0 Status: OK PackageFile: SingleR_2.11.3.tgz PackageFileSize: 973.6 KiB