Package: SingleMoleculeFootprinting Version: 2.3.1 Command: /home/biocbuild/R/R/bin/R CMD INSTALL SingleMoleculeFootprinting StartedAt: 2025-07-14 21:22:54 -0000 (Mon, 14 Jul 2025) EndedAt: 2025-07-14 21:24:00 -0000 (Mon, 14 Jul 2025) EllapsedTime: 66.2 seconds RetCode: 0 Status: OK