Package: SingleMoleculeFootprinting Version: 2.3.0 Command: /home/biocbuild/bbs-3.22-bioc/R/bin/R CMD INSTALL SingleMoleculeFootprinting StartedAt: 2025-06-30 16:01:15 -0400 (Mon, 30 Jun 2025) EndedAt: 2025-06-30 16:02:19 -0400 (Mon, 30 Jun 2025) EllapsedTime: 63.8 seconds RetCode: 0 Status: OK