Package: SingleMoleculeFootprinting Version: 2.3.0 Command: /home/biocbuild/bbs-3.22-bioc/R/bin/R CMD build --keep-empty-dirs --no-resave-data --md5 SingleMoleculeFootprinting StartedAt: 2025-06-30 19:17:04 -0400 (Mon, 30 Jun 2025) EndedAt: 2025-06-30 19:20:04 -0400 (Mon, 30 Jun 2025) EllapsedTime: 180.2 seconds RetCode: 0 Status: OK PackageFile: SingleMoleculeFootprinting_2.3.0.tar.gz PackageFileSize: 4.063 MiB