Package: SingleMoleculeFootprinting Version: 2.3.1 Command: /Library/Frameworks/R.framework/Resources/bin/R CMD INSTALL SingleMoleculeFootprinting StartedAt: 2025-07-04 15:29:14 -0400 (Fri, 04 Jul 2025) EndedAt: 2025-07-04 15:29:38 -0400 (Fri, 04 Jul 2025) EllapsedTime: 23.8 seconds RetCode: 0 Status: OK