Package: SingleMoleculeFootprinting Version: 2.3.1 Command: /Library/Frameworks/R.framework/Resources/bin/R CMD check --install=check:SingleMoleculeFootprinting.install-out.txt --library=/Library/Frameworks/R.framework/Resources/library --no-vignettes --timings SingleMoleculeFootprinting_2.3.1.tar.gz StartedAt: 2025-07-07 21:25:53 -0400 (Mon, 07 Jul 2025) EndedAt: 2025-07-07 21:28:22 -0400 (Mon, 07 Jul 2025) EllapsedTime: 149.7 seconds RetCode: 0 Status: OK CheckDir: SingleMoleculeFootprinting.Rcheck Warnings: 0