Package: SingleCellExperiment Version: 1.31.1 Command: rm -rf SingleCellExperiment.buildbin-libdir && mkdir SingleCellExperiment.buildbin-libdir && F:\biocbuild\bbs-3.22-bioc\R\bin\R.exe CMD INSTALL --build --library=SingleCellExperiment.buildbin-libdir SingleCellExperiment_1.31.1.tar.gz StartedAt: 2025-07-14 10:01:12 -0400 (Mon, 14 Jul 2025) EndedAt: 2025-07-14 10:08:01 -0400 (Mon, 14 Jul 2025) EllapsedTime: 409.2 seconds RetCode: 0 Status: OK PackageFile: SingleCellExperiment_1.31.1.zip PackageFileSize: 1.919 MiB