Back to Multiple platform build/check report for BioC 3.22:   simplified   long
ABCDEFGHIJKLMNOPQR[S]TUVWXYZ

This page was generated on 2025-10-04 12:03 -0400 (Sat, 04 Oct 2025).

HostnameOSArch (*)R versionInstalled pkgs
nebbiolo2Linux (Ubuntu 24.04.3 LTS)x86_644.5.1 Patched (2025-08-23 r88802) -- "Great Square Root" 4853
lconwaymacOS 12.7.1 Montereyx86_644.5.1 Patched (2025-09-10 r88807) -- "Great Square Root" 4640
kjohnson3macOS 13.7.7 Venturaarm644.5.1 Patched (2025-09-10 r88807) -- "Great Square Root" 4585
taishanLinux (openEuler 24.03 LTS)aarch644.5.0 (2025-04-11) -- "How About a Twenty-Six" 4576
Click on any hostname to see more info about the system (e.g. compilers)      (*) as reported by 'uname -p', except on Windows and Mac OS X

All results for package SingleCellExperiment


To the developers/maintainers of the SingleCellExperiment package:
- Allow up to 24 hours (and sometimes 48 hours) for your latest push to git@git.bioconductor.org:packages/SingleCellExperiment.git to reflect on this report. See Troubleshooting Build Report for more information.
- Use the following Renviron settings to reproduce errors and warnings.
- If 'R CMD check' started to fail recently on the Linux builder(s) over a missing dependency, add the missing dependency to 'Suggests:' in your DESCRIPTION file. See Renviron.bioc for more information.

raw results

Package 2013/2341HostnameOS / ArchINSTALLBUILDCHECKBUILD BIN
SingleCellExperiment 1.31.1  (landing page)
Davide Risso
Snapshot Date: 2025-10-03 13:45 -0400 (Fri, 03 Oct 2025)
git_url: https://git.bioconductor.org/packages/SingleCellExperiment
git_branch: devel
git_last_commit: cfd667c
git_last_commit_date: 2025-06-27 11:03:23 -0400 (Fri, 27 Jun 2025)
nebbiolo2Linux (Ubuntu 24.04.3 LTS) / x86_64  OK    OK    OK  UNNEEDED, same version is already published
lconwaymacOS 12.7.1 Monterey / x86_64  OK    OK    OK    OK  UNNEEDED, same version is already published
kjohnson3macOS 13.7.7 Ventura / arm64  OK    OK    OK    OK  UNNEEDED, same version is already published
taishanLinux (openEuler 24.03 LTS) / aarch64  OK    OK    OK  



Results for Bioconductor software packages that depend directly on package SingleCellExperiment

QUICK STATSOS / ArchINSTALLBUILDCHECKBUILD BIN
nebbiolo2Linux (Ubuntu 24.04.3 LTS) / x86_64
02211
09204
2722173
lconwaymacOS 12.7.1 Monterey / x86_64
07206
016197
1820168
00197
kjohnson3macOS 13.7.7 Ventura / arm64
07206
016197
01219166
00197
taishanLinux (openEuler 24.03 LTS) / aarch64
06204
321186
1630149
Package 1/213HostnameOS / ArchINSTALLBUILDCHECKBUILD BIN
ADImpute 1.19.0  (landing page)
Ana Carolina Leote
git_last_commit: 018a64b
git_last_commit_date: 2025-04-15 12:13:31 -0400
nebbiolo2Linux (Ubuntu 24.04.3 LTS) / x86_64  OK    OK    WARNINGS  UNNEEDED, same version is already published
lconwaymacOS 12.7.1 Monterey / x86_64  OK    OK    WARNINGS    OK  UNNEEDED, same version is already published
kjohnson3macOS 13.7.7 Ventura / arm64  OK    OK    WARNINGS    OK  UNNEEDED, same version is already published
taishanLinux (openEuler 24.03 LTS) / aarch64  OK    OK    WARNINGS  
Package 2/213HostnameOS / ArchINSTALLBUILDCHECKBUILD BIN
aggregateBioVar 1.19.0  (landing page)
Jason Ratcliff
git_last_commit: 9432612
git_last_commit_date: 2025-04-15 12:10:03 -0400
nebbiolo2Linux (Ubuntu 24.04.3 LTS) / x86_64  OK    OK    OK  UNNEEDED, same version is already published
lconwaymacOS 12.7.1 Monterey / x86_64  OK    OK    OK    OK  UNNEEDED, same version is already published
kjohnson3macOS 13.7.7 Ventura / arm64  OK    OK    OK    OK  UNNEEDED, same version is already published
taishanLinux (openEuler 24.03 LTS) / aarch64  OK    OK    OK  
Package 3/213HostnameOS / ArchINSTALLBUILDCHECKBUILD BIN
airpart 1.17.0  (landing page)
Wancen Mu
git_last_commit: 451afcf
git_last_commit_date: 2025-04-15 12:24:36 -0400
nebbiolo2Linux (Ubuntu 24.04.3 LTS) / x86_64  OK    OK    OK  UNNEEDED, same version is already published
lconwaymacOS 12.7.1 Monterey / x86_64  OK    OK    OK    OK  UNNEEDED, same version is already published
kjohnson3macOS 13.7.7 Ventura / arm64  OK    OK    OK    OK  UNNEEDED, same version is already published
taishanLinux (openEuler 24.03 LTS) / aarch64  OK    OK    OK  
Package 4/213HostnameOS / ArchINSTALLBUILDCHECKBUILD BIN
alabaster.sce 1.9.0  (landing page)
Aaron Lun
git_last_commit: 03a65cc
git_last_commit_date: 2025-04-15 13:10:02 -0400
nebbiolo2Linux (Ubuntu 24.04.3 LTS) / x86_64  OK    OK    OK  UNNEEDED, same version is already published
lconwaymacOS 12.7.1 Monterey / x86_64  OK    OK    OK    OK  UNNEEDED, same version is already published
kjohnson3macOS 13.7.7 Ventura / arm64  OK    OK    OK    OK  UNNEEDED, same version is already published
taishanLinux (openEuler 24.03 LTS) / aarch64  OK    OK    OK  
Package 5/213HostnameOS / ArchINSTALLBUILDCHECKBUILD BIN
alabaster.sfe 1.1.0  (landing page)
Lambda Moses
git_last_commit: 021f759
git_last_commit_date: 2025-04-15 13:49:17 -0400
nebbiolo2Linux (Ubuntu 24.04.3 LTS) / x86_64  OK    OK    OK  UNNEEDED, same version is already published
lconwaymacOS 12.7.1 Monterey / x86_64  OK    OK    ERROR    OK  
kjohnson3macOS 13.7.7 Ventura / arm64  OK    OK    ERROR    OK  
taishanLinux (openEuler 24.03 LTS) / aarch64  OK    OK    OK  
Package 6/213HostnameOS / ArchINSTALLBUILDCHECKBUILD BIN
anglemania 0.99.6  (landing page)
Aaron Kollotzek
git_last_commit: 792f3bf
git_last_commit_date: 2025-09-23 10:33:53 -0400
nebbiolo2Linux (Ubuntu 24.04.3 LTS) / x86_64  OK    OK    OK  UNNEEDED, same version is already published
lconwaymacOS 12.7.1 Monterey / x86_64  ERROR    OK    ERROR    OK  
kjohnson3macOS 13.7.7 Ventura / arm64  ERROR    OK    ERROR    OK  
taishanLinux (openEuler 24.03 LTS) / aarch64  ERROR    OK    ERROR  
Package 7/213HostnameOS / ArchINSTALLBUILDCHECKBUILD BIN
APL 1.13.0  (landing page)
Clemens Kohl
git_last_commit: 371f92a
git_last_commit_date: 2025-04-15 12:51:38 -0400
nebbiolo2Linux (Ubuntu 24.04.3 LTS) / x86_64  OK    OK    OK  UNNEEDED, same version is already published
lconwaymacOS 12.7.1 Monterey / x86_64  OK    OK    OK    OK  UNNEEDED, same version is already published
kjohnson3macOS 13.7.7 Ventura / arm64  OK    OK    OK    OK  UNNEEDED, same version is already published
taishanLinux (openEuler 24.03 LTS) / aarch64  OK    OK    OK  
Package 8/213HostnameOS / ArchINSTALLBUILDCHECKBUILD BIN
ASURAT 1.13.0  (landing page)
Keita Iida
git_last_commit: d4254d0
git_last_commit_date: 2025-04-15 12:48:03 -0400
nebbiolo2Linux (Ubuntu 24.04.3 LTS) / x86_64  OK    OK    OK  UNNEEDED, same version is already published
lconwaymacOS 12.7.1 Monterey / x86_64  OK    OK    OK    OK  UNNEEDED, same version is already published
kjohnson3macOS 13.7.7 Ventura / arm64  OK    OK    OK    OK  UNNEEDED, same version is already published
taishanLinux (openEuler 24.03 LTS) / aarch64  OK    TIMEOUT  skipped
Package 9/213HostnameOS / ArchINSTALLBUILDCHECKBUILD BIN
Banksy 1.5.8  (landing page)
Joseph Lee
git_last_commit: 098ad3f
git_last_commit_date: 2025-07-24 11:48:52 -0400
nebbiolo2Linux (Ubuntu 24.04.3 LTS) / x86_64  OK    OK    OK  UNNEEDED, same version is already published
lconwaymacOS 12.7.1 Monterey / x86_64  OK    OK    OK    OK  UNNEEDED, same version is already published
kjohnson3macOS 13.7.7 Ventura / arm64  OK    OK    OK    OK  UNNEEDED, same version is already published
taishanLinux (openEuler 24.03 LTS) / aarch64  OK    OK    OK  
Package 10/213HostnameOS / ArchINSTALLBUILDCHECKBUILD BIN
BASiCS 2.21.1  (landing page)
Catalina Vallejos
git_last_commit: a6635d4
git_last_commit_date: 2025-09-17 04:48:21 -0400
nebbiolo2Linux (Ubuntu 24.04.3 LTS) / x86_64  OK    OK    WARNINGS  UNNEEDED, same version is already published
lconwaymacOS 12.7.1 Monterey / x86_64  OK    OK    WARNINGS    OK  UNNEEDED, same version is already published
kjohnson3macOS 13.7.7 Ventura / arm64  OK    OK    WARNINGS    OK  UNNEEDED, same version is already published
taishanLinux (openEuler 24.03 LTS) / aarch64  OK    OK    WARNINGS  
Package 11/213HostnameOS / ArchINSTALLBUILDCHECKBUILD BIN
BASiCStan 1.11.0  (landing page)
Alan O'Callaghan
git_last_commit: d444e6e
git_last_commit_date: 2025-04-15 12:55:04 -0400
nebbiolo2Linux (Ubuntu 24.04.3 LTS) / x86_64  OK    OK    OK  UNNEEDED, same version is already published
lconwaymacOS 12.7.1 Monterey / x86_64  OK    OK    OK    OK  UNNEEDED, same version is already published
kjohnson3macOS 13.7.7 Ventura / arm64  OK    OK    OK    OK  UNNEEDED, same version is already published
taishanLinux (openEuler 24.03 LTS) / aarch64  OK    OK    WARNINGS  
Package 12/213HostnameOS / ArchINSTALLBUILDCHECKBUILD BIN
batchelor 1.25.0  (landing page)
Aaron Lun
git_last_commit: 6aba2ed
git_last_commit_date: 2025-04-15 11:42:55 -0400
nebbiolo2Linux (Ubuntu 24.04.3 LTS) / x86_64  OK    OK    OK  UNNEEDED, same version is already published
lconwaymacOS 12.7.1 Monterey / x86_64  OK    OK    OK    OK  UNNEEDED, same version is already published
kjohnson3macOS 13.7.7 Ventura / arm64  OK    OK    OK    OK  UNNEEDED, same version is already published
taishanLinux (openEuler 24.03 LTS) / aarch64  OK    OK    OK  
Package 13/213HostnameOS / ArchINSTALLBUILDCHECKBUILD BIN
BayesSpace 1.19.4  (landing page)
Senbai Kang
git_last_commit: 7733590
git_last_commit_date: 2025-07-15 08:00:39 -0400
nebbiolo2Linux (Ubuntu 24.04.3 LTS) / x86_64  OK    OK    TIMEOUT  
lconwaymacOS 12.7.1 Monterey / x86_64  OK    OK    OK    OK  UNNEEDED, same version is already published
kjohnson3macOS 13.7.7 Ventura / arm64  OK    OK    OK    OK  UNNEEDED, same version is already published
taishanLinux (openEuler 24.03 LTS) / aarch64  OK    OK    OK  
Package 14/213HostnameOS / ArchINSTALLBUILDCHECKBUILD BIN
bayNorm 1.27.0  (landing page)
Wenhao Tang
git_last_commit: bbcde72
git_last_commit_date: 2025-04-15 11:38:01 -0400
nebbiolo2Linux (Ubuntu 24.04.3 LTS) / x86_64  OK    OK    OK  UNNEEDED, same version is already published
lconwaymacOS 12.7.1 Monterey / x86_64  OK    OK    OK    OK  UNNEEDED, same version is already published
kjohnson3macOS 13.7.7 Ventura / arm64  OK    OK    OK    OK  UNNEEDED, same version is already published
taishanLinux (openEuler 24.03 LTS) / aarch64  OK    OK    OK  
Package 15/213HostnameOS / ArchINSTALLBUILDCHECKBUILD BIN
blase 0.99.3  (landing page)
Andrew McCluskey
git_last_commit: 59f88c1
git_last_commit_date: 2025-10-01 12:07:26 -0400
nebbiolo2Linux (Ubuntu 24.04.3 LTS) / x86_64  OK    OK    OK  YES
lconwaymacOS 12.7.1 Monterey / x86_64  OK    OK    OK    OK  YES
kjohnson3macOS 13.7.7 Ventura / arm64  OK    OK    OK    OK  YES
taishanLinux (openEuler 24.03 LTS) / aarch64  NA    NA    NA  
Package 16/213HostnameOS / ArchINSTALLBUILDCHECKBUILD BIN
BUSseq 1.15.0  (landing page)
Fangda Song
git_last_commit: e6d5e61
git_last_commit_date: 2025-04-15 12:33:55 -0400
nebbiolo2Linux (Ubuntu 24.04.3 LTS) / x86_64  OK    OK    OK  UNNEEDED, same version is already published
lconwaymacOS 12.7.1 Monterey / x86_64  OK    OK    OK    OK  UNNEEDED, same version is already published
kjohnson3macOS 13.7.7 Ventura / arm64  OK    OK    OK    OK  UNNEEDED, same version is already published
taishanLinux (openEuler 24.03 LTS) / aarch64  OK    OK    OK  
Package 17/213HostnameOS / ArchINSTALLBUILDCHECKBUILD BIN
CARDspa 1.1.0  (landing page)
Jing Fu
git_last_commit: 8b194bb
git_last_commit_date: 2025-04-15 13:48:01 -0400
nebbiolo2Linux (Ubuntu 24.04.3 LTS) / x86_64  OK    OK    OK  UNNEEDED, same version is already published
lconwaymacOS 12.7.1 Monterey / x86_64  OK    OK    OK    OK  UNNEEDED, same version is already published
kjohnson3macOS 13.7.7 Ventura / arm64  OK    OK    OK    OK  UNNEEDED, same version is already published
taishanLinux (openEuler 24.03 LTS) / aarch64  OK    OK    OK  
Package 18/213HostnameOS / ArchINSTALLBUILDCHECKBUILD BIN
CATALYST 1.33.1  (landing page)
Helena L. Crowell
git_last_commit: 0262c36
git_last_commit_date: 2025-07-13 09:49:24 -0400
nebbiolo2Linux (Ubuntu 24.04.3 LTS) / x86_64  OK    OK    OK  UNNEEDED, same version is already published
lconwaymacOS 12.7.1 Monterey / x86_64  OK    OK    OK    OK  UNNEEDED, same version is already published
kjohnson3macOS 13.7.7 Ventura / arm64  OK    OK    OK    OK  UNNEEDED, same version is already published
taishanLinux (openEuler 24.03 LTS) / aarch64  OK    OK    OK  
Package 19/213HostnameOS / ArchINSTALLBUILDCHECKBUILD BIN
CatsCradle 1.3.0  (landing page)
Michael Shapiro
git_last_commit: ec233bd
git_last_commit_date: 2025-04-15 13:40:27 -0400
nebbiolo2Linux (Ubuntu 24.04.3 LTS) / x86_64  OK    ERROR  skipped
lconwaymacOS 12.7.1 Monterey / x86_64  OK    ERROR  skippedskipped
kjohnson3macOS 13.7.7 Ventura / arm64  OK    ERROR  skippedskipped
taishanLinux (openEuler 24.03 LTS) / aarch64  OK    ERROR  skipped
Package 20/213HostnameOS / ArchINSTALLBUILDCHECKBUILD BIN
ccfindR 1.29.0  (landing page)
Jun Woo
git_last_commit: 95219f2
git_last_commit_date: 2025-04-15 11:33:18 -0400
nebbiolo2Linux (Ubuntu 24.04.3 LTS) / x86_64  OK    OK    OK  UNNEEDED, same version is already published
lconwaymacOS 12.7.1 Monterey / x86_64  ERROR    ERROR  skippedskipped
kjohnson3macOS 13.7.7 Ventura / arm64  ERROR    ERROR  skippedskipped
taishanLinux (openEuler 24.03 LTS) / aarch64  OK    OK    WARNINGS  
Package 21/213HostnameOS / ArchINSTALLBUILDCHECKBUILD BIN
ccImpute 1.11.0  (landing page)
Marcin Malec
git_last_commit: 155e665
git_last_commit_date: 2025-04-15 12:58:32 -0400
nebbiolo2Linux (Ubuntu 24.04.3 LTS) / x86_64  OK    OK    OK  UNNEEDED, same version is already published
lconwaymacOS 12.7.1 Monterey / x86_64  OK    OK    OK    OK  UNNEEDED, same version is already published
kjohnson3macOS 13.7.7 Ventura / arm64  OK    OK    OK    OK  UNNEEDED, same version is already published
taishanLinux (openEuler 24.03 LTS) / aarch64  OK    OK    WARNINGS  
Package 22/213HostnameOS / ArchINSTALLBUILDCHECKBUILD BIN
CDI 1.7.0  (landing page)
Jiyuan Fang
git_last_commit: f89991d
git_last_commit_date: 2025-04-15 13:17:57 -0400
nebbiolo2Linux (Ubuntu 24.04.3 LTS) / x86_64  OK    OK    OK  UNNEEDED, same version is already published
lconwaymacOS 12.7.1 Monterey / x86_64  OK    OK    OK    OK  UNNEEDED, same version is already published
kjohnson3macOS 13.7.7 Ventura / arm64  OK    OK    OK    OK  UNNEEDED, same version is already published
taishanLinux (openEuler 24.03 LTS) / aarch64  OK    OK    OK  
Package 23/213HostnameOS / ArchINSTALLBUILDCHECKBUILD BIN
celda 1.25.0  (landing page)
Joshua Campbell
git_last_commit: b623680
git_last_commit_date: 2025-04-15 11:46:22 -0400
nebbiolo2Linux (Ubuntu 24.04.3 LTS) / x86_64  OK    OK    OK  UNNEEDED, same version is already published
lconwaymacOS 12.7.1 Monterey / x86_64  OK    OK    OK    OK  UNNEEDED, same version is already published
kjohnson3macOS 13.7.7 Ventura / arm64  OK    OK    OK    OK  UNNEEDED, same version is already published
taishanLinux (openEuler 24.03 LTS) / aarch64  OK    OK    WARNINGS  
Package 24/213HostnameOS / ArchINSTALLBUILDCHECKBUILD BIN
CellBench 1.25.0  (landing page)
Shian Su
git_last_commit: 04d39f7
git_last_commit_date: 2025-04-15 11:41:45 -0400
nebbiolo2Linux (Ubuntu 24.04.3 LTS) / x86_64  OK    OK    OK  UNNEEDED, same version is already published
lconwaymacOS 12.7.1 Monterey / x86_64  OK    OK    OK    OK  UNNEEDED, same version is already published
kjohnson3macOS 13.7.7 Ventura / arm64  OK    OK    OK    OK  UNNEEDED, same version is already published
taishanLinux (openEuler 24.03 LTS) / aarch64  OK    OK    OK  
Package 25/213HostnameOS / ArchINSTALLBUILDCHECKBUILD BIN
CelliD 1.17.0  (landing page)
Akira Cortal
git_last_commit: b801e21
git_last_commit_date: 2025-04-15 12:23:04 -0400
nebbiolo2Linux (Ubuntu 24.04.3 LTS) / x86_64  OK    OK    WARNINGS  UNNEEDED, same version is already published
lconwaymacOS 12.7.1 Monterey / x86_64  OK    OK    WARNINGS    OK  UNNEEDED, same version is already published
kjohnson3macOS 13.7.7 Ventura / arm64  OK    OK    WARNINGS    OK  UNNEEDED, same version is already published
taishanLinux (openEuler 24.03 LTS) / aarch64  OK    OK    WARNINGS  
Package 26/213HostnameOS / ArchINSTALLBUILDCHECKBUILD BIN
CellMixS 1.25.0  (landing page)
Almut Lütge
git_last_commit: 3e6aefd
git_last_commit_date: 2025-04-15 11:43:07 -0400
nebbiolo2Linux (Ubuntu 24.04.3 LTS) / x86_64  OK    OK    OK  UNNEEDED, same version is already published
lconwaymacOS 12.7.1 Monterey / x86_64  OK    OK    OK    OK  UNNEEDED, same version is already published
kjohnson3macOS 13.7.7 Ventura / arm64  OK    OK    OK    OK  UNNEEDED, same version is already published
taishanLinux (openEuler 24.03 LTS) / aarch64  OK    OK    OK  
Package 27/213HostnameOS / ArchINSTALLBUILDCHECKBUILD BIN
CellTrails 1.27.0  (landing page)
Daniel Ellwanger
git_last_commit: 5a3c70f
git_last_commit_date: 2025-04-15 11:34:49 -0400
nebbiolo2Linux (Ubuntu 24.04.3 LTS) / x86_64  OK    OK    OK  UNNEEDED, same version is already published
lconwaymacOS 12.7.1 Monterey / x86_64  OK    OK    OK    OK  UNNEEDED, same version is already published
kjohnson3macOS 13.7.7 Ventura / arm64  OK    OK    OK    OK  UNNEEDED, same version is already published
taishanLinux (openEuler 24.03 LTS) / aarch64  OK    OK    OK  
Package 28/213HostnameOS / ArchINSTALLBUILDCHECKBUILD BIN
Cepo 1.15.0  (landing page)
Hani Jieun Kim
git_last_commit: 4a33ee5
git_last_commit_date: 2025-04-15 12:41:50 -0400
nebbiolo2Linux (Ubuntu 24.04.3 LTS) / x86_64  OK    OK    OK  UNNEEDED, same version is already published
lconwaymacOS 12.7.1 Monterey / x86_64  OK    OK    OK    OK  UNNEEDED, same version is already published
kjohnson3macOS 13.7.7 Ventura / arm64  OK    OK    OK    OK  UNNEEDED, same version is already published
taishanLinux (openEuler 24.03 LTS) / aarch64  OK    OK    OK  
Package 29/213HostnameOS / ArchINSTALLBUILDCHECKBUILD BIN
CHETAH 1.25.0  (landing page)
Jurrian de Kanter
git_last_commit: fca36ff
git_last_commit_date: 2025-04-15 12:53:39 -0400
nebbiolo2Linux (Ubuntu 24.04.3 LTS) / x86_64  OK    OK    OK  UNNEEDED, same version is already published
lconwaymacOS 12.7.1 Monterey / x86_64  OK    OK    OK    OK  UNNEEDED, same version is already published
kjohnson3macOS 13.7.7 Ventura / arm64  OK    OK    OK    OK  UNNEEDED, same version is already published
taishanLinux (openEuler 24.03 LTS) / aarch64  OK    OK    OK  
Package 30/213HostnameOS / ArchINSTALLBUILDCHECKBUILD BIN
chevreulPlot 1.1.2  (landing page)
Kevin Stachelek
git_last_commit: 3745106
git_last_commit_date: 2025-06-04 21:56:43 -0400
nebbiolo2Linux (Ubuntu 24.04.3 LTS) / x86_64  OK    OK    OK  UNNEEDED, same version is already published
lconwaymacOS 12.7.1 Monterey / x86_64  OK    OK    OK    OK  UNNEEDED, same version is already published
kjohnson3macOS 13.7.7 Ventura / arm64  OK    OK    OK    OK  UNNEEDED, same version is already published
taishanLinux (openEuler 24.03 LTS) / aarch64  OK    OK    OK  
Package 31/213HostnameOS / ArchINSTALLBUILDCHECKBUILD BIN
chevreulProcess 1.1.2  (landing page)
Kevin Stachelek
git_last_commit: eabcf1a
git_last_commit_date: 2025-06-04 21:45:43 -0400
nebbiolo2Linux (Ubuntu 24.04.3 LTS) / x86_64  OK    OK    OK  UNNEEDED, same version is already published
lconwaymacOS 12.7.1 Monterey / x86_64  OK    OK    OK    OK  UNNEEDED, same version is already published
kjohnson3macOS 13.7.7 Ventura / arm64  OK    OK    OK    OK  UNNEEDED, same version is already published
taishanLinux (openEuler 24.03 LTS) / aarch64  OK    OK    OK  
Package 32/213HostnameOS / ArchINSTALLBUILDCHECKBUILD BIN
chevreulShiny 1.1.2  (landing page)
Kevin Stachelek
git_last_commit: c77a2a9
git_last_commit_date: 2025-06-04 21:35:41 -0400
nebbiolo2Linux (Ubuntu 24.04.3 LTS) / x86_64  OK    OK    OK  UNNEEDED, same version is already published
lconwaymacOS 12.7.1 Monterey / x86_64  OK    OK    OK    OK  UNNEEDED, same version is already published
kjohnson3macOS 13.7.7 Ventura / arm64  OK    OK    OK    OK  UNNEEDED, same version is already published
taishanLinux (openEuler 24.03 LTS) / aarch64  OK    OK    OK  
Package 33/213HostnameOS / ArchINSTALLBUILDCHECKBUILD BIN
ChromSCape 1.19.1  (landing page)
Pacome Prompsy
git_last_commit: a4985c2
git_last_commit_date: 2025-08-01 10:39:23 -0400
nebbiolo2Linux (Ubuntu 24.04.3 LTS) / x86_64  OK    OK    WARNINGS  UNNEEDED, same version is already published
lconwaymacOS 12.7.1 Monterey / x86_64  OK    OK    WARNINGS    OK  UNNEEDED, same version is already published
kjohnson3macOS 13.7.7 Ventura / arm64  OK    OK    WARNINGS    OK  UNNEEDED, same version is already published
taishanLinux (openEuler 24.03 LTS) / aarch64  OK    OK    WARNINGS  
Package 34/213HostnameOS / ArchINSTALLBUILDCHECKBUILD BIN
CiteFuse 1.21.0  (landing page)
Yingxin Lin
git_last_commit: da50bf8
git_last_commit_date: 2025-04-15 11:57:20 -0400
nebbiolo2Linux (Ubuntu 24.04.3 LTS) / x86_64  OK    OK    OK  UNNEEDED, same version is already published
lconwaymacOS 12.7.1 Monterey / x86_64  OK    OK    OK    OK  UNNEEDED, same version is already published
kjohnson3macOS 13.7.7 Ventura / arm64  OK    OK    OK    OK  UNNEEDED, same version is already published
taishanLinux (openEuler 24.03 LTS) / aarch64  OK    OK    OK  
Package 35/213HostnameOS / ArchINSTALLBUILDCHECKBUILD BIN
clusterExperiment 2.29.0  (landing page)
Elizabeth Purdom
git_last_commit: 8c7a71c
git_last_commit_date: 2025-04-15 11:03:22 -0400
nebbiolo2Linux (Ubuntu 24.04.3 LTS) / x86_64  OK    OK    WARNINGS  UNNEEDED, same version is already published
lconwaymacOS 12.7.1 Monterey / x86_64  OK    OK    WARNINGS    OK  UNNEEDED, same version is already published
kjohnson3macOS 13.7.7 Ventura / arm64  OK    OK    WARNINGS    OK  UNNEEDED, same version is already published
taishanLinux (openEuler 24.03 LTS) / aarch64  OK    OK    WARNINGS  
Package 36/213HostnameOS / ArchINSTALLBUILDCHECKBUILD BIN
ClusterFoldSimilarity 1.5.0  (landing page)
Oscar Gonzalez-Velasco
git_last_commit: c8df2d4
git_last_commit_date: 2025-04-15 13:25:19 -0400
nebbiolo2Linux (Ubuntu 24.04.3 LTS) / x86_64  OK    OK    WARNINGS  UNNEEDED, same version is already published
lconwaymacOS 12.7.1 Monterey / x86_64  OK    OK    WARNINGS    OK  UNNEEDED, same version is already published
kjohnson3macOS 13.7.7 Ventura / arm64  OK    OK    WARNINGS    OK  UNNEEDED, same version is already published
taishanLinux (openEuler 24.03 LTS) / aarch64  OK    OK    WARNINGS  
Package 37/213HostnameOS / ArchINSTALLBUILDCHECKBUILD BIN
clustifyr 1.21.0  (landing page)
Rui Fu
git_last_commit: d3521c2
git_last_commit_date: 2025-04-16 16:21:04 -0400
nebbiolo2Linux (Ubuntu 24.04.3 LTS) / x86_64  OK    OK    OK  UNNEEDED, same version is already published
lconwaymacOS 12.7.1 Monterey / x86_64  OK    OK    OK    OK  UNNEEDED, same version is already published
kjohnson3macOS 13.7.7 Ventura / arm64  OK    OK    OK    OK  UNNEEDED, same version is already published
taishanLinux (openEuler 24.03 LTS) / aarch64  OK    OK    OK  
Package 38/213HostnameOS / ArchINSTALLBUILDCHECKBUILD BIN
clustSIGNAL 1.1.0  (landing page)
Pratibha Panwar
git_last_commit: bf6980f
git_last_commit_date: 2025-04-15 13:51:14 -0400
nebbiolo2Linux (Ubuntu 24.04.3 LTS) / x86_64  OK    OK    OK  UNNEEDED, same version is already published
lconwaymacOS 12.7.1 Monterey / x86_64  OK    OK    OK    OK  UNNEEDED, same version is already published
kjohnson3macOS 13.7.7 Ventura / arm64  OK    OK    OK    OK  UNNEEDED, same version is already published
taishanLinux (openEuler 24.03 LTS) / aarch64  OK    OK    OK  
Package 39/213HostnameOS / ArchINSTALLBUILDCHECKBUILD BIN
CoGAPS 3.29.1  (landing page)
Elana J. Fertig
git_last_commit: b480cd1
git_last_commit_date: 2025-09-16 09:46:38 -0400
nebbiolo2Linux (Ubuntu 24.04.3 LTS) / x86_64  OK    OK    OK  UNNEEDED, same version is already published
lconwaymacOS 12.7.1 Monterey / x86_64  OK    OK    OK    OK  UNNEEDED, same version is already published
kjohnson3macOS 13.7.7 Ventura / arm64  OK    OK    OK    OK  UNNEEDED, same version is already published
taishanLinux (openEuler 24.03 LTS) / aarch64  OK    OK    OK  
Package 40/213HostnameOS / ArchINSTALLBUILDCHECKBUILD BIN
concordexR 1.9.1  (landing page)
Kayla Jackson
git_last_commit: 4c8e8f6
git_last_commit_date: 2025-06-12 16:33:05 -0400
nebbiolo2Linux (Ubuntu 24.04.3 LTS) / x86_64  OK    OK    WARNINGS  UNNEEDED, same version is already published
lconwaymacOS 12.7.1 Monterey / x86_64  OK    OK    WARNINGS    OK  UNNEEDED, same version is already published
kjohnson3macOS 13.7.7 Ventura / arm64  OK    OK    WARNINGS    OK  UNNEEDED, same version is already published
taishanLinux (openEuler 24.03 LTS) / aarch64  OK    OK    WARNINGS  
Package 41/213HostnameOS / ArchINSTALLBUILDCHECKBUILD BIN
condiments 1.17.0  (landing page)
Hector Roux de Bezieux
git_last_commit: 2ea9897
git_last_commit_date: 2025-04-15 12:24:44 -0400
nebbiolo2Linux (Ubuntu 24.04.3 LTS) / x86_64  OK    OK    OK  UNNEEDED, same version is already published
lconwaymacOS 12.7.1 Monterey / x86_64  OK    OK    OK    OK  UNNEEDED, same version is already published
kjohnson3macOS 13.7.7 Ventura / arm64  OK    OK    OK    OK  UNNEEDED, same version is already published
taishanLinux (openEuler 24.03 LTS) / aarch64  OK    OK    OK  
Package 42/213HostnameOS / ArchINSTALLBUILDCHECKBUILD BIN
Coralysis 0.99.10  (landing page)
António Sousa
git_last_commit: 1d012cd
git_last_commit_date: 2025-07-21 03:00:23 -0400
nebbiolo2Linux (Ubuntu 24.04.3 LTS) / x86_64  OK    OK    OK  UNNEEDED, same version is already published
lconwaymacOS 12.7.1 Monterey / x86_64  OK    OK    OK    OK  UNNEEDED, same version is already published
kjohnson3macOS 13.7.7 Ventura / arm64  OK    OK    OK    OK  UNNEEDED, same version is already published
taishanLinux (openEuler 24.03 LTS) / aarch64  OK    OK    OK  
Package 43/213HostnameOS / ArchINSTALLBUILDCHECKBUILD BIN
corral 1.19.0  (landing page)
Lauren Hsu
git_last_commit: 58b723a
git_last_commit_date: 2025-04-15 12:03:36 -0400
nebbiolo2Linux (Ubuntu 24.04.3 LTS) / x86_64  OK    OK    OK  UNNEEDED, same version is already published
lconwaymacOS 12.7.1 Monterey / x86_64  OK    OK    OK    OK  UNNEEDED, same version is already published
kjohnson3macOS 13.7.7 Ventura / arm64  OK    OK    OK    OK  UNNEEDED, same version is already published
taishanLinux (openEuler 24.03 LTS) / aarch64  OK    OK    OK  
Package 44/213HostnameOS / ArchINSTALLBUILDCHECKBUILD BIN
COTAN 2.9.6  (landing page)
Galfrè Silvia Giulia
git_last_commit: 260f3bf
git_last_commit_date: 2025-09-26 15:15:57 -0400
nebbiolo2Linux (Ubuntu 24.04.3 LTS) / x86_64  OK    OK    OK  UNNEEDED, same version is already published
lconwaymacOS 12.7.1 Monterey / x86_64  OK    OK    OK    OK  UNNEEDED, same version is already published
kjohnson3macOS 13.7.7 Ventura / arm64  OK    OK    OK    OK  UNNEEDED, same version is already published
taishanLinux (openEuler 24.03 LTS) / aarch64  OK    OK    OK  
Package 45/213HostnameOS / ArchINSTALLBUILDCHECKBUILD BIN
crumblr 1.1.0  (landing page)
Gabriel Hoffman
git_last_commit: 515361e
git_last_commit_date: 2025-04-15 13:49:52 -0400
nebbiolo2Linux (Ubuntu 24.04.3 LTS) / x86_64  OK    OK    OK  UNNEEDED, same version is already published
lconwaymacOS 12.7.1 Monterey / x86_64  OK    OK    OK    OK  UNNEEDED, same version is already published
kjohnson3macOS 13.7.7 Ventura / arm64  OK    OK    OK    OK  UNNEEDED, same version is already published
taishanLinux (openEuler 24.03 LTS) / aarch64  OK    OK    OK  
Package 46/213HostnameOS / ArchINSTALLBUILDCHECKBUILD BIN
CSOA 0.99.2  (landing page)
Andrei-Florian Stoica
git_last_commit: c31b17a
git_last_commit_date: 2025-09-19 12:11:24 -0400
nebbiolo2Linux (Ubuntu 24.04.3 LTS) / x86_64  OK    OK    OK  UNNEEDED, same version is already published
lconwaymacOS 12.7.1 Monterey / x86_64  OK    OK    OK    OK  UNNEEDED, same version is already published
kjohnson3macOS 13.7.7 Ventura / arm64  OK    OK    OK    OK  UNNEEDED, same version is already published
taishanLinux (openEuler 24.03 LTS) / aarch64  OK    OK    OK  
Package 47/213HostnameOS / ArchINSTALLBUILDCHECKBUILD BIN
CTexploreR 1.5.0  (landing page)
Axelle Loriot
git_last_commit: f680c7a
git_last_commit_date: 2025-04-15 13:25:33 -0400
nebbiolo2Linux (Ubuntu 24.04.3 LTS) / x86_64  OK    OK    TIMEOUT  
lconwaymacOS 12.7.1 Monterey / x86_64  OK    OK    OK    OK  UNNEEDED, same version is already published
kjohnson3macOS 13.7.7 Ventura / arm64  OK    OK    OK    OK  UNNEEDED, same version is already published
taishanLinux (openEuler 24.03 LTS) / aarch64  OK    OK    OK  
Package 48/213HostnameOS / ArchINSTALLBUILDCHECKBUILD BIN
CuratedAtlasQueryR 1.7.0  (landing page)
Stefano Mangiola
git_last_commit: e0cbfe0
git_last_commit_date: 2025-04-15 13:18:11 -0400
nebbiolo2Linux (Ubuntu 24.04.3 LTS) / x86_64  OK    OK    OK  UNNEEDED, same version is already published
lconwaymacOS 12.7.1 Monterey / x86_64  OK    OK    OK    OK  UNNEEDED, same version is already published
kjohnson3macOS 13.7.7 Ventura / arm64  OK    OK    OK    OK  UNNEEDED, same version is already published
taishanLinux (openEuler 24.03 LTS) / aarch64  OK    OK    OK  
Package 49/213HostnameOS / ArchINSTALLBUILDCHECKBUILD BIN
cydar 1.33.0  (landing page)
Aaron Lun
git_last_commit: afc4250
git_last_commit_date: 2025-04-15 11:09:41 -0400
nebbiolo2Linux (Ubuntu 24.04.3 LTS) / x86_64  OK    OK    OK  UNNEEDED, same version is already published
lconwaymacOS 12.7.1 Monterey / x86_64  OK    OK    OK    OK  UNNEEDED, same version is already published
kjohnson3macOS 13.7.7 Ventura / arm64  OK    OK    OK    OK  UNNEEDED, same version is already published
taishanLinux (openEuler 24.03 LTS) / aarch64  OK    OK    OK  
Package 50/213HostnameOS / ArchINSTALLBUILDCHECKBUILD BIN
cytofQC 1.9.0  (landing page)
Jill Lundell
git_last_commit: 82c3fdc
git_last_commit_date: 2025-04-15 13:11:34 -0400
nebbiolo2Linux (Ubuntu 24.04.3 LTS) / x86_64  ERROR    ERROR  skipped
lconwaymacOS 12.7.1 Monterey / x86_64  ERROR    ERROR  skippedskipped
kjohnson3macOS 13.7.7 Ventura / arm64  ERROR    ERROR  skippedskipped
taishanLinux (openEuler 24.03 LTS) / aarch64  OK    OK    OK  
Package 51/213HostnameOS / ArchINSTALLBUILDCHECKBUILD BIN
cytomapper 1.21.0  (landing page)
Lasse Meyer
git_last_commit: 3314049
git_last_commit_date: 2025-05-27 06:58:01 -0400
nebbiolo2Linux (Ubuntu 24.04.3 LTS) / x86_64  OK    OK    OK  UNNEEDED, same version is already published
lconwaymacOS 12.7.1 Monterey / x86_64  OK    OK    OK    OK  UNNEEDED, same version is already published
kjohnson3macOS 13.7.7 Ventura / arm64  OK    OK    OK    OK  UNNEEDED, same version is already published
taishanLinux (openEuler 24.03 LTS) / aarch64  OK    OK    OK  
Package 52/213HostnameOS / ArchINSTALLBUILDCHECKBUILD BIN
cytoviewer 1.9.0  (landing page)
Lasse Meyer
git_last_commit: 0323c69
git_last_commit_date: 2025-05-27 07:24:14 -0400
nebbiolo2Linux (Ubuntu 24.04.3 LTS) / x86_64  OK    OK    OK  UNNEEDED, same version is already published
lconwaymacOS 12.7.1 Monterey / x86_64  OK    OK    OK    OK  UNNEEDED, same version is already published
kjohnson3macOS 13.7.7 Ventura / arm64  OK    OK    OK    OK  UNNEEDED, same version is already published
taishanLinux (openEuler 24.03 LTS) / aarch64  OK    OK    OK  
Package 53/213HostnameOS / ArchINSTALLBUILDCHECKBUILD BIN
dandelionR 1.1.4  (landing page)
Kelvin Tuong
git_last_commit: 6e4d526
git_last_commit_date: 2025-08-07 21:12:57 -0400
nebbiolo2Linux (Ubuntu 24.04.3 LTS) / x86_64  OK    OK    OK  UNNEEDED, same version is already published
lconwaymacOS 12.7.1 Monterey / x86_64  OK    OK    OK    OK  UNNEEDED, same version is already published
kjohnson3macOS 13.7.7 Ventura / arm64  OK    OK    OK    OK  UNNEEDED, same version is already published
taishanLinux (openEuler 24.03 LTS) / aarch64  OK    OK    OK  
Package 54/213HostnameOS / ArchINSTALLBUILDCHECKBUILD BIN
decontX 1.7.0  (landing page)
Joshua Campbell
git_last_commit: e2086dd
git_last_commit_date: 2025-04-15 13:24:25 -0400
nebbiolo2Linux (Ubuntu 24.04.3 LTS) / x86_64  OK    OK    OK  UNNEEDED, same version is already published
lconwaymacOS 12.7.1 Monterey / x86_64  OK    OK    OK    OK  UNNEEDED, same version is already published
kjohnson3macOS 13.7.7 Ventura / arm64  OK    OK    OK    OK  UNNEEDED, same version is already published
taishanLinux (openEuler 24.03 LTS) / aarch64  OK    OK    WARNINGS  
Package 55/213HostnameOS / ArchINSTALLBUILDCHECKBUILD BIN
DeconvoBuddies 1.1.5  (landing page)
Louise Huuki-Myers
git_last_commit: d128d49
git_last_commit_date: 2025-07-28 15:17:06 -0400
nebbiolo2Linux (Ubuntu 24.04.3 LTS) / x86_64  OK    OK    OK  UNNEEDED, same version is already published
lconwaymacOS 12.7.1 Monterey / x86_64  OK    OK    OK    OK  UNNEEDED, same version is already published
kjohnson3macOS 13.7.7 Ventura / arm64  OK    OK    OK    OK  UNNEEDED, same version is already published
taishanLinux (openEuler 24.03 LTS) / aarch64  OK    OK    OK  
Package 56/213HostnameOS / ArchINSTALLBUILDCHECKBUILD BIN
DeeDeeExperiment 0.99.5  (landing page)
Najla Abassi
git_last_commit: 101435d
git_last_commit_date: 2025-08-25 09:05:50 -0400
nebbiolo2Linux (Ubuntu 24.04.3 LTS) / x86_64  OK    OK    OK  UNNEEDED, same version is already published
lconwaymacOS 12.7.1 Monterey / x86_64  OK    OK    OK    OK  UNNEEDED, same version is already published
kjohnson3macOS 13.7.7 Ventura / arm64  OK    OK    OK    OK  UNNEEDED, same version is already published
taishanLinux (openEuler 24.03 LTS) / aarch64  OK    OK    OK  
Package 57/213HostnameOS / ArchINSTALLBUILDCHECKBUILD BIN
demuxSNP 1.7.1  (landing page)
Michael Lynch
git_last_commit: f1693e2
git_last_commit_date: 2025-07-24 19:19:11 -0400
nebbiolo2Linux (Ubuntu 24.04.3 LTS) / x86_64  OK    ERROR  skipped
lconwaymacOS 12.7.1 Monterey / x86_64  OK    ERROR  skippedskipped
kjohnson3macOS 13.7.7 Ventura / arm64  OK    ERROR  skippedskipped
taishanLinux (openEuler 24.03 LTS) / aarch64  OK    ERROR  skipped
Package 58/213HostnameOS / ArchINSTALLBUILDCHECKBUILD BIN
destiny 3.23.0  (landing page)
Philipp Angerer
git_last_commit: edce2d7
git_last_commit_date: 2025-04-15 12:45:01 -0400
nebbiolo2Linux (Ubuntu 24.04.3 LTS) / x86_64  OK    OK    ERROR  
lconwaymacOS 12.7.1 Monterey / x86_64  OK    OK    ERROR    OK  
kjohnson3macOS 13.7.7 Ventura / arm64  OK    OK    ERROR    OK  
taishanLinux (openEuler 24.03 LTS) / aarch64  OK    OK    ERROR  
Package 59/213HostnameOS / ArchINSTALLBUILDCHECKBUILD BIN
DifferentialRegulation 2.7.0  (landing page)
Simone Tiberi
git_last_commit: ab313f3
git_last_commit_date: 2025-04-15 12:51:03 -0400
nebbiolo2Linux (Ubuntu 24.04.3 LTS) / x86_64  OK    OK    OK  UNNEEDED, same version is already published
lconwaymacOS 12.7.1 Monterey / x86_64  OK    OK    OK    OK  UNNEEDED, same version is already published
kjohnson3macOS 13.7.7 Ventura / arm64  OK    OK    OK    OK  UNNEEDED, same version is already published
taishanLinux (openEuler 24.03 LTS) / aarch64  OK    TIMEOUT  skipped
Package 60/213HostnameOS / ArchINSTALLBUILDCHECKBUILD BIN
Dino 1.15.0  (landing page)
Jared Brown
git_last_commit: c5353e6
git_last_commit_date: 2025-04-15 12:34:43 -0400
nebbiolo2Linux (Ubuntu 24.04.3 LTS) / x86_64  OK    OK    OK  UNNEEDED, same version is already published
lconwaymacOS 12.7.1 Monterey / x86_64  OK    OK    OK    OK  UNNEEDED, same version is already published
kjohnson3macOS 13.7.7 Ventura / arm64  OK    OK    OK    OK  UNNEEDED, same version is already published
taishanLinux (openEuler 24.03 LTS) / aarch64  OK    OK    OK  
Package 61/213HostnameOS / ArchINSTALLBUILDCHECKBUILD BIN
distinct 1.21.0  (landing page)
Simone Tiberi
git_last_commit: 47653ab
git_last_commit_date: 2025-04-15 11:56:55 -0400
nebbiolo2Linux (Ubuntu 24.04.3 LTS) / x86_64  OK    OK    OK  UNNEEDED, same version is already published
lconwaymacOS 12.7.1 Monterey / x86_64  OK    OK    OK    OK  UNNEEDED, same version is already published
kjohnson3macOS 13.7.7 Ventura / arm64  OK    OK    OK    OK  UNNEEDED, same version is already published
taishanLinux (openEuler 24.03 LTS) / aarch64  OK    OK    OK  
Package 62/213HostnameOS / ArchINSTALLBUILDCHECKBUILD BIN
dittoSeq 1.21.1  (landing page)
Daniel Bunis
git_last_commit: abd9699
git_last_commit_date: 2025-09-22 14:58:44 -0400
nebbiolo2Linux (Ubuntu 24.04.3 LTS) / x86_64  OK    ERROR  skipped
lconwaymacOS 12.7.1 Monterey / x86_64  OK    ERROR  skippedskipped
kjohnson3macOS 13.7.7 Ventura / arm64  OK    ERROR  skippedskipped
taishanLinux (openEuler 24.03 LTS) / aarch64  OK    ERROR  skipped
Package 63/213HostnameOS / ArchINSTALLBUILDCHECKBUILD BIN
dreamlet 1.7.1  (landing page)
Gabriel Hoffman
git_last_commit: 2af7734
git_last_commit_date: 2025-04-24 15:29:25 -0400
nebbiolo2Linux (Ubuntu 24.04.3 LTS) / x86_64  OK    OK    OK  UNNEEDED, same version is already published
lconwaymacOS 12.7.1 Monterey / x86_64  OK    OK    OK    OK  UNNEEDED, same version is already published
kjohnson3macOS 13.7.7 Ventura / arm64  OK    OK    OK    OK  UNNEEDED, same version is already published
taishanLinux (openEuler 24.03 LTS) / aarch64  OK    OK    OK  
Package 64/213HostnameOS / ArchINSTALLBUILDCHECKBUILD BIN
DropletUtils 1.29.7  (landing page)
Jonathan Griffiths
git_last_commit: d85890b
git_last_commit_date: 2025-08-27 13:53:10 -0400
nebbiolo2Linux (Ubuntu 24.04.3 LTS) / x86_64  OK    OK    WARNINGS  UNNEEDED, same version is already published
lconwaymacOS 12.7.1 Monterey / x86_64  OK    OK    WARNINGS    OK  UNNEEDED, same version is already published
kjohnson3macOS 13.7.7 Ventura / arm64  OK    OK    WARNINGS    OK  UNNEEDED, same version is already published
taishanLinux (openEuler 24.03 LTS) / aarch64  OK    OK    WARNINGS  
Package 65/213HostnameOS / ArchINSTALLBUILDCHECKBUILD BIN
epiregulon 1.5.1  (landing page)
Xiaosai Yao
git_last_commit: 50e4283
git_last_commit_date: 2025-04-28 09:50:01 -0400
nebbiolo2Linux (Ubuntu 24.04.3 LTS) / x86_64  OK    OK    OK  UNNEEDED, same version is already published
lconwaymacOS 12.7.1 Monterey / x86_64  OK    OK    OK    OK  UNNEEDED, same version is already published
kjohnson3macOS 13.7.7 Ventura / arm64  OK    OK    OK    OK  UNNEEDED, same version is already published
taishanLinux (openEuler 24.03 LTS) / aarch64  ERROR    ERROR  skipped
Package 66/213HostnameOS / ArchINSTALLBUILDCHECKBUILD BIN
epiregulon.extra 1.5.0  (landing page)
Xiaosai Yao
git_last_commit: d3a1ac3
git_last_commit_date: 2025-04-15 13:35:35 -0400
nebbiolo2Linux (Ubuntu 24.04.3 LTS) / x86_64  OK    OK    OK  UNNEEDED, same version is already published
lconwaymacOS 12.7.1 Monterey / x86_64  OK    OK    OK    OK  UNNEEDED, same version is already published
kjohnson3macOS 13.7.7 Ventura / arm64  OK    OK    OK    OK  UNNEEDED, same version is already published
taishanLinux (openEuler 24.03 LTS) / aarch64  OK    ERROR  skipped
Package 67/213HostnameOS / ArchINSTALLBUILDCHECKBUILD BIN
escheR 1.9.0  (landing page)
Boyi Guo
git_last_commit: 2f2bfd9
git_last_commit_date: 2025-04-15 13:12:33 -0400
nebbiolo2Linux (Ubuntu 24.04.3 LTS) / x86_64  OK    OK    OK  UNNEEDED, same version is already published
lconwaymacOS 12.7.1 Monterey / x86_64  OK    OK    OK    OK  UNNEEDED, same version is already published
kjohnson3macOS 13.7.7 Ventura / arm64  OK    OK    OK    OK  UNNEEDED, same version is already published
taishanLinux (openEuler 24.03 LTS) / aarch64  OK    OK    OK  
Package 68/213HostnameOS / ArchINSTALLBUILDCHECKBUILD BIN
EWCE 1.17.0  (landing page)
Alan Murphy
git_last_commit: 2a4e0e6
git_last_commit_date: 2025-04-15 12:26:28 -0400
nebbiolo2Linux (Ubuntu 24.04.3 LTS) / x86_64  OK    ERROR  skipped
lconwaymacOS 12.7.1 Monterey / x86_64  OK    ERROR  skippedskipped
kjohnson3macOS 13.7.7 Ventura / arm64  OK    ERROR  skippedskipped
taishanLinux (openEuler 24.03 LTS) / aarch64  OK    ERROR  skipped
Package 69/213HostnameOS / ArchINSTALLBUILDCHECKBUILD BIN
ExperimentSubset 1.19.0  (landing page)
Irzam Sarfraz
git_last_commit: 4a79ec5
git_last_commit_date: 2025-04-15 12:11:59 -0400
nebbiolo2Linux (Ubuntu 24.04.3 LTS) / x86_64  OK    OK    OK  UNNEEDED, same version is already published
lconwaymacOS 12.7.1 Monterey / x86_64  OK    OK    OK    OK  UNNEEDED, same version is already published
kjohnson3macOS 13.7.7 Ventura / arm64  OK    OK    OK    OK  UNNEEDED, same version is already published
taishanLinux (openEuler 24.03 LTS) / aarch64  OK    OK    OK  
Package 70/213HostnameOS / ArchINSTALLBUILDCHECKBUILD BIN
FEAST 1.17.0  (landing page)
Kenong Su
git_last_commit: bc3658f
git_last_commit_date: 2025-04-15 12:28:11 -0400
nebbiolo2Linux (Ubuntu 24.04.3 LTS) / x86_64  OK    OK    OK  UNNEEDED, same version is already published
lconwaymacOS 12.7.1 Monterey / x86_64  OK    OK    OK    OK  UNNEEDED, same version is already published
kjohnson3macOS 13.7.7 Ventura / arm64  OK    OK    OK    OK  UNNEEDED, same version is already published
taishanLinux (openEuler 24.03 LTS) / aarch64  OK    OK    OK  
Package 71/213HostnameOS / ArchINSTALLBUILDCHECKBUILD BIN
fishpond 2.15.0  (landing page)
Michael Love
git_last_commit: e066ee9
git_last_commit_date: 2025-04-15 11:41:26 -0400
nebbiolo2Linux (Ubuntu 24.04.3 LTS) / x86_64  OK    OK    OK  UNNEEDED, same version is already published
lconwaymacOS 12.7.1 Monterey / x86_64  OK    OK    OK    OK  UNNEEDED, same version is already published
kjohnson3macOS 13.7.7 Ventura / arm64  OK    OK    OK    OK  UNNEEDED, same version is already published
taishanLinux (openEuler 24.03 LTS) / aarch64  OK    OK    OK  
Package 72/213HostnameOS / ArchINSTALLBUILDCHECKBUILD BIN
FLAMES 2.3.5  (landing page)
Changqing Wang
git_last_commit: 5771592
git_last_commit_date: 2025-09-12 02:43:50 -0400
nebbiolo2Linux (Ubuntu 24.04.3 LTS) / x86_64  OK    OK    OK  UNNEEDED, same version is already published
lconwaymacOS 12.7.1 Monterey / x86_64  OK    OK    OK    OK  UNNEEDED, same version is already published
kjohnson3macOS 13.7.7 Ventura / arm64  OK    OK    OK    OK  UNNEEDED, same version is already published
taishanLinux (openEuler 24.03 LTS) / aarch64  ERROR    ERROR  skipped
Package 73/213HostnameOS / ArchINSTALLBUILDCHECKBUILD BIN
ggsc 1.7.1  (landing page)
Guangchuang Yu
git_last_commit: a648db4
git_last_commit_date: 2025-07-02 00:02:00 -0400
nebbiolo2Linux (Ubuntu 24.04.3 LTS) / x86_64  OK    OK    OK  UNNEEDED, same version is already published
lconwaymacOS 12.7.1 Monterey / x86_64  OK    OK    OK    OK  UNNEEDED, same version is already published
kjohnson3macOS 13.7.7 Ventura / arm64  OK    OK    OK    OK  UNNEEDED, same version is already published
taishanLinux (openEuler 24.03 LTS) / aarch64  OK    OK    OK  
Package 74/213HostnameOS / ArchINSTALLBUILDCHECKBUILD BIN
ggspavis 1.15.7  (landing page)
Lukas M. Weber
git_last_commit: 63e379c
git_last_commit_date: 2025-05-21 11:19:58 -0400
nebbiolo2Linux (Ubuntu 24.04.3 LTS) / x86_64  OK    OK    OK  UNNEEDED, same version is already published
lconwaymacOS 12.7.1 Monterey / x86_64  OK    OK    OK    OK  UNNEEDED, same version is already published
kjohnson3macOS 13.7.7 Ventura / arm64  OK    OK    OK    OK  UNNEEDED, same version is already published
taishanLinux (openEuler 24.03 LTS) / aarch64  OK    OK    OK  
Package 75/213HostnameOS / ArchINSTALLBUILDCHECKBUILD BIN
glmGamPoi 1.21.0  (landing page)
Constantin Ahlmann-Eltze
git_last_commit: 2e494d0
git_last_commit_date: 2025-04-15 11:56:50 -0400
nebbiolo2Linux (Ubuntu 24.04.3 LTS) / x86_64  OK    OK    WARNINGS  UNNEEDED, same version is already published
lconwaymacOS 12.7.1 Monterey / x86_64  OK    OK    WARNINGS    OK  UNNEEDED, same version is already published
kjohnson3macOS 13.7.7 Ventura / arm64  OK    OK    WARNINGS    OK  UNNEEDED, same version is already published
taishanLinux (openEuler 24.03 LTS) / aarch64  OK    OK    WARNINGS  
Package 76/213HostnameOS / ArchINSTALLBUILDCHECKBUILD BIN
GloScope 1.99.1  (landing page)
William Torous
git_last_commit: 0ba435c
git_last_commit_date: 2025-09-28 02:02:28 -0400
nebbiolo2Linux (Ubuntu 24.04.3 LTS) / x86_64  OK    OK    OK  UNNEEDED, same version is already published
lconwaymacOS 12.7.1 Monterey / x86_64  OK    OK    OK    OK  UNNEEDED, same version is already published
kjohnson3macOS 13.7.7 Ventura / arm64  OK    OK    OK    OK  UNNEEDED, same version is already published
taishanLinux (openEuler 24.03 LTS) / aarch64  OK    OK    OK  
Package 77/213HostnameOS / ArchINSTALLBUILDCHECKBUILD BIN
GSVA 2.3.2  (landing page)
Robert Castelo
git_last_commit: 63d78a1
git_last_commit_date: 2025-10-03 12:55:56 -0400
nebbiolo2Linux (Ubuntu 24.04.3 LTS) / x86_64  OK    OK    OK  YES
lconwaymacOS 12.7.1 Monterey / x86_64  OK    OK    OK    OK  YES
kjohnson3macOS 13.7.7 Ventura / arm64  OK    OK    OK    OK  YES
taishanLinux (openEuler 24.03 LTS) / aarch64  OK    OK    OK  
Package 78/213HostnameOS / ArchINSTALLBUILDCHECKBUILD BIN
HIPPO 1.21.0  (landing page)
Tae Kim
git_last_commit: b010664
git_last_commit_date: 2025-04-15 11:56:22 -0400
nebbiolo2Linux (Ubuntu 24.04.3 LTS) / x86_64  OK    OK    OK  UNNEEDED, same version is already published
lconwaymacOS 12.7.1 Monterey / x86_64  OK    OK    OK    OK  UNNEEDED, same version is already published
kjohnson3macOS 13.7.7 Ventura / arm64  OK    OK    OK    OK  UNNEEDED, same version is already published
taishanLinux (openEuler 24.03 LTS) / aarch64  OK    OK    OK  
Package 79/213HostnameOS / ArchINSTALLBUILDCHECKBUILD BIN
ILoReg 1.19.0  (landing page)
Johannes Smolander
git_last_commit: e85631b
git_last_commit_date: 2025-04-15 12:05:33 -0400
nebbiolo2Linux (Ubuntu 24.04.3 LTS) / x86_64  OK    OK    WARNINGS  UNNEEDED, same version is already published
lconwaymacOS 12.7.1 Monterey / x86_64  OK    OK    WARNINGS    OK  UNNEEDED, same version is already published
kjohnson3macOS 13.7.7 Ventura / arm64  OK    OK    WARNINGS    OK  UNNEEDED, same version is already published
taishanLinux (openEuler 24.03 LTS) / aarch64  OK    ERROR  skipped
Package 80/213HostnameOS / ArchINSTALLBUILDCHECKBUILD BIN
imcRtools 1.15.3  (landing page)
Daniel Schulz
git_last_commit: 0c0cdbc
git_last_commit_date: 2025-09-29 04:48:22 -0400
nebbiolo2Linux (Ubuntu 24.04.3 LTS) / x86_64  OK    OK    OK  UNNEEDED, same version is already published
lconwaymacOS 12.7.1 Monterey / x86_64  OK    OK    OK    OK  UNNEEDED, same version is already published
kjohnson3macOS 13.7.7 Ventura / arm64  OK    OK    ERROR    OK  
taishanLinux (openEuler 24.03 LTS) / aarch64  OK    OK    OK  
Package 81/213HostnameOS / ArchINSTALLBUILDCHECKBUILD BIN
immApex 1.3.7  (landing page)
Nick Borcherding
git_last_commit: 17216cf
git_last_commit_date: 2025-09-28 11:43:30 -0400
nebbiolo2Linux (Ubuntu 24.04.3 LTS) / x86_64  OK    OK    OK  UNNEEDED, same version is already published
lconwaymacOS 12.7.1 Monterey / x86_64  OK    OK    OK    OK  UNNEEDED, same version is already published
kjohnson3macOS 13.7.7 Ventura / arm64  OK    OK    OK    OK  UNNEEDED, same version is already published
taishanLinux (openEuler 24.03 LTS) / aarch64  OK    OK    OK  
Package 82/213HostnameOS / ArchINSTALLBUILDCHECKBUILD BIN
infercnv 1.25.0  (landing page)
Christophe Georgescu
git_last_commit: e916d44
git_last_commit_date: 2025-04-15 11:44:30 -0400
nebbiolo2Linux (Ubuntu 24.04.3 LTS) / x86_64  OK    OK    OK  UNNEEDED, same version is already published
lconwaymacOS 12.7.1 Monterey / x86_64  OK    OK    OK    OK  UNNEEDED, same version is already published
kjohnson3macOS 13.7.7 Ventura / arm64  OK    OK    OK    OK  UNNEEDED, same version is already published
taishanLinux (openEuler 24.03 LTS) / aarch64  ERROR    ERROR  skipped
Package 83/213HostnameOS / ArchINSTALLBUILDCHECKBUILD BIN
iSEE 2.21.1  (landing page)
Kevin Rue-Albrecht
git_last_commit: a96d05b
git_last_commit_date: 2025-06-03 09:18:28 -0400
nebbiolo2Linux (Ubuntu 24.04.3 LTS) / x86_64  OK    OK    OK  UNNEEDED, same version is already published
lconwaymacOS 12.7.1 Monterey / x86_64  OK    OK    OK    OK  UNNEEDED, same version is already published
kjohnson3macOS 13.7.7 Ventura / arm64  OK    OK    OK    OK  UNNEEDED, same version is already published
taishanLinux (openEuler 24.03 LTS) / aarch64  OK    OK    OK  
Package 84/213HostnameOS / ArchINSTALLBUILDCHECKBUILD BIN
iSEEfier 1.5.0  (landing page)
Najla Abassi
git_last_commit: 26d9e8d
git_last_commit_date: 2025-07-25 09:21:57 -0400
nebbiolo2Linux (Ubuntu 24.04.3 LTS) / x86_64  OK    OK    OK  UNNEEDED, same version is already published
lconwaymacOS 12.7.1 Monterey / x86_64  OK    OK    OK    OK  UNNEEDED, same version is already published
kjohnson3macOS 13.7.7 Ventura / arm64  OK    OK    OK    OK  UNNEEDED, same version is already published
taishanLinux (openEuler 24.03 LTS) / aarch64  OK    OK    OK  
Package 85/213HostnameOS / ArchINSTALLBUILDCHECKBUILD BIN
iSEEhub 1.11.0  (landing page)
Kevin Rue-Albrecht
git_last_commit: 82adff5
git_last_commit_date: 2025-04-15 12:56:01 -0400
nebbiolo2Linux (Ubuntu 24.04.3 LTS) / x86_64  OK    OK    OK  UNNEEDED, same version is already published
lconwaymacOS 12.7.1 Monterey / x86_64  OK    OK    OK    OK  UNNEEDED, same version is already published
kjohnson3macOS 13.7.7 Ventura / arm64  OK    OK    OK    OK  UNNEEDED, same version is already published
taishanLinux (openEuler 24.03 LTS) / aarch64  OK    OK    OK  
Package 86/213HostnameOS / ArchINSTALLBUILDCHECKBUILD BIN
iSEEindex 1.7.0  (landing page)
Kevin Rue-Albrecht
git_last_commit: fe94394
git_last_commit_date: 2025-04-15 13:17:28 -0400
nebbiolo2Linux (Ubuntu 24.04.3 LTS) / x86_64  OK    OK    OK  UNNEEDED, same version is already published
lconwaymacOS 12.7.1 Monterey / x86_64  OK    OK    OK    OK  UNNEEDED, same version is already published
kjohnson3macOS 13.7.7 Ventura / arm64  OK    OK    OK    OK  UNNEEDED, same version is already published
taishanLinux (openEuler 24.03 LTS) / aarch64  OK    OK    OK  
Package 87/213HostnameOS / ArchINSTALLBUILDCHECKBUILD BIN
iSEEtree 1.3.2  (landing page)
Giulio Benedetti
git_last_commit: b1b4d6e
git_last_commit_date: 2025-08-29 11:35:14 -0400
nebbiolo2Linux (Ubuntu 24.04.3 LTS) / x86_64  OK    OK    OK  UNNEEDED, same version is already published
lconwaymacOS 12.7.1 Monterey / x86_64  OK    OK    OK    OK  NO, package depends on 'mia' which is only available as a source package that needs compilation
kjohnson3macOS 13.7.7 Ventura / arm64  OK    OK    OK    OK  UNNEEDED, same version is already published
taishanLinux (openEuler 24.03 LTS) / aarch64  OK    OK    OK  
Package 88/213HostnameOS / ArchINSTALLBUILDCHECKBUILD BIN
iSEEu 1.21.0  (landing page)
Kevin Rue-Albrecht
git_last_commit: f91afea
git_last_commit_date: 2025-04-15 11:57:16 -0400
nebbiolo2Linux (Ubuntu 24.04.3 LTS) / x86_64  OK    OK    WARNINGS  UNNEEDED, same version is already published
lconwaymacOS 12.7.1 Monterey / x86_64  OK    OK    WARNINGS    OK  UNNEEDED, same version is already published
kjohnson3macOS 13.7.7 Ventura / arm64  OK    OK    WARNINGS    OK  UNNEEDED, same version is already published
taishanLinux (openEuler 24.03 LTS) / aarch64  OK    OK    WARNINGS  
Package 89/213HostnameOS / ArchINSTALLBUILDCHECKBUILD BIN
lemur 1.7.0  (landing page)
Constantin Ahlmann-Eltze
git_last_commit: a472576
git_last_commit_date: 2025-04-15 13:24:02 -0400
nebbiolo2Linux (Ubuntu 24.04.3 LTS) / x86_64  OK    OK    WARNINGS  UNNEEDED, same version is already published
lconwaymacOS 12.7.1 Monterey / x86_64  OK    OK    WARNINGS    OK  UNNEEDED, same version is already published
kjohnson3macOS 13.7.7 Ventura / arm64  OK    OK    WARNINGS    OK  UNNEEDED, same version is already published
taishanLinux (openEuler 24.03 LTS) / aarch64  OK    OK    WARNINGS  
Package 90/213HostnameOS / ArchINSTALLBUILDCHECKBUILD BIN
lisaClust 1.17.0  (landing page)
Ellis Patrick
git_last_commit: c9cf0e3
git_last_commit_date: 2025-04-15 12:22:27 -0400
nebbiolo2Linux (Ubuntu 24.04.3 LTS) / x86_64  OK    OK    OK  UNNEEDED, same version is already published
lconwaymacOS 12.7.1 Monterey / x86_64  OK    OK    OK    OK  UNNEEDED, same version is already published
kjohnson3macOS 13.7.7 Ventura / arm64  OK    OK    OK    OK  UNNEEDED, same version is already published
taishanLinux (openEuler 24.03 LTS) / aarch64  OK    OK    OK  
Package 91/213HostnameOS / ArchINSTALLBUILDCHECKBUILD BIN
looking4clusters 0.99.4  (landing page)
David Barrios
git_last_commit: 812475f
git_last_commit_date: 2025-10-01 10:59:28 -0400
nebbiolo2Linux (Ubuntu 24.04.3 LTS) / x86_64  OK    OK    OK  YES
lconwaymacOS 12.7.1 Monterey / x86_64  OK    OK    OK    OK  YES
kjohnson3macOS 13.7.7 Ventura / arm64  OK    OK    OK    OK  YES
taishanLinux (openEuler 24.03 LTS) / aarch64  NA    NA    NA  
Package 92/213HostnameOS / ArchINSTALLBUILDCHECKBUILD BIN
LoomExperiment 1.27.0  (landing page)
Bioconductor Package Maintainer
git_last_commit: e34f6b4
git_last_commit_date: 2025-04-15 11:39:17 -0400
nebbiolo2Linux (Ubuntu 24.04.3 LTS) / x86_64  OK    OK    OK  UNNEEDED, same version is already published
lconwaymacOS 12.7.1 Monterey / x86_64  OK    OK    OK    OK  UNNEEDED, same version is already published
kjohnson3macOS 13.7.7 Ventura / arm64  OK    OK    OK    OK  UNNEEDED, same version is already published
taishanLinux (openEuler 24.03 LTS) / aarch64  OK    OK    OK  
Package 93/213HostnameOS / ArchINSTALLBUILDCHECKBUILD BIN
lute 1.5.1  (landing page)
Sean K Maden
git_last_commit: 46c2ab0
git_last_commit_date: 2025-09-22 09:54:51 -0400
nebbiolo2Linux (Ubuntu 24.04.3 LTS) / x86_64  OK    OK    ERROR  
lconwaymacOS 12.7.1 Monterey / x86_64  OK    OK    ERROR    OK  
kjohnson3macOS 13.7.7 Ventura / arm64  OK    OK    ERROR    OK  
taishanLinux (openEuler 24.03 LTS) / aarch64  OK    OK    OK  
Package 94/213HostnameOS / ArchINSTALLBUILDCHECKBUILD BIN
MAST 1.35.0  (landing page)
Andrew McDavid
git_last_commit: 4526063
git_last_commit_date: 2025-04-15 11:06:00 -0400
nebbiolo2Linux (Ubuntu 24.04.3 LTS) / x86_64  OK    ERROR  skipped
lconwaymacOS 12.7.1 Monterey / x86_64  OK    ERROR  skippedskipped
kjohnson3macOS 13.7.7 Ventura / arm64  OK    ERROR  skippedskipped
taishanLinux (openEuler 24.03 LTS) / aarch64  OK    ERROR  skipped
Package 95/213HostnameOS / ArchINSTALLBUILDCHECKBUILD BIN
mastR 1.9.1  (landing page)
Jinjin Chen
git_last_commit: 50e1100
git_last_commit_date: 2025-06-30 23:19:16 -0400
nebbiolo2Linux (Ubuntu 24.04.3 LTS) / x86_64  OK    OK    OK  UNNEEDED, same version is already published
lconwaymacOS 12.7.1 Monterey / x86_64  OK    OK    OK    OK  UNNEEDED, same version is already published
kjohnson3macOS 13.7.7 Ventura / arm64  OK    OK    OK    OK  UNNEEDED, same version is already published
taishanLinux (openEuler 24.03 LTS) / aarch64  OK    TIMEOUT  skipped
Package 96/213HostnameOS / ArchINSTALLBUILDCHECKBUILD BIN
mbkmeans 1.25.0  (landing page)
Davide Risso
git_last_commit: fe624b7
git_last_commit_date: 2025-04-15 11:43:11 -0400
nebbiolo2Linux (Ubuntu 24.04.3 LTS) / x86_64  OK    OK    OK  UNNEEDED, same version is already published
lconwaymacOS 12.7.1 Monterey / x86_64  OK    OK    OK    OK  UNNEEDED, same version is already published
kjohnson3macOS 13.7.7 Ventura / arm64  OK    OK    OK    OK  UNNEEDED, same version is already published
taishanLinux (openEuler 24.03 LTS) / aarch64  OK    OK    OK  
Package 97/213HostnameOS / ArchINSTALLBUILDCHECKBUILD BIN
MEB 1.23.0  (landing page)
Jiadi Zhu
git_last_commit: bbc4bb4
git_last_commit_date: 2025-04-15 11:50:20 -0400
nebbiolo2Linux (Ubuntu 24.04.3 LTS) / x86_64  OK    OK    OK  UNNEEDED, same version is already published
lconwaymacOS 12.7.1 Monterey / x86_64  OK    OK    OK    OK  UNNEEDED, same version is already published
kjohnson3macOS 13.7.7 Ventura / arm64  OK    OK    OK    OK  UNNEEDED, same version is already published
taishanLinux (openEuler 24.03 LTS) / aarch64  OK    OK    OK  
Package 98/213HostnameOS / ArchINSTALLBUILDCHECKBUILD BIN
MetaNeighbor 1.29.0  (landing page)
Stephan Fischer
git_last_commit: 7e89527
git_last_commit_date: 2025-04-15 11:16:43 -0400
nebbiolo2Linux (Ubuntu 24.04.3 LTS) / x86_64  OK    OK    OK  UNNEEDED, same version is already published
lconwaymacOS 12.7.1 Monterey / x86_64  OK    OK    OK    OK  UNNEEDED, same version is already published
kjohnson3macOS 13.7.7 Ventura / arm64  OK    OK    OK    OK  UNNEEDED, same version is already published
taishanLinux (openEuler 24.03 LTS) / aarch64  OK    OK    OK  
Package 99/213HostnameOS / ArchINSTALLBUILDCHECKBUILD BIN
mia 1.17.9  (landing page)
Tuomas Borman
git_last_commit: 48e3197
git_last_commit_date: 2025-09-10 04:07:54 -0400
nebbiolo2Linux (Ubuntu 24.04.3 LTS) / x86_64  OK    OK    OK  UNNEEDED, same version is already published
lconwaymacOS 12.7.1 Monterey / x86_64  OK    OK    TIMEOUT    OK  
kjohnson3macOS 13.7.7 Ventura / arm64  OK    OK    ERROR    OK  
taishanLinux (openEuler 24.03 LTS) / aarch64  OK    OK    TIMEOUT  
Package 100/213HostnameOS / ArchINSTALLBUILDCHECKBUILD BIN
miaDash 1.1.5  (landing page)
Giulio Benedetti
git_last_commit: 6b11cd5
git_last_commit_date: 2025-09-09 14:53:53 -0400
nebbiolo2Linux (Ubuntu 24.04.3 LTS) / x86_64  OK    OK    OK  UNNEEDED, same version is already published
lconwaymacOS 12.7.1 Monterey / x86_64  OK    OK    OK    OK  NO, package depends on 'mia' which is only available as a source package that needs compilation
kjohnson3macOS 13.7.7 Ventura / arm64  OK    OK    OK    OK  UNNEEDED, same version is already published
taishanLinux (openEuler 24.03 LTS) / aarch64  OK    OK    OK  
Package 101/213HostnameOS / ArchINSTALLBUILDCHECKBUILD BIN
miaTime 0.99.9  (landing page)
Tuomas Borman
git_last_commit: 911ef84
git_last_commit_date: 2025-08-04 03:17:03 -0400
nebbiolo2Linux (Ubuntu 24.04.3 LTS) / x86_64  OK    OK    OK  UNNEEDED, same version is already published
lconwaymacOS 12.7.1 Monterey / x86_64  OK    OK    OK    OK  NO, package depends on 'mia' which is only available as a source package that needs compilation
kjohnson3macOS 13.7.7 Ventura / arm64  OK    OK    OK    OK  UNNEEDED, same version is already published
taishanLinux (openEuler 24.03 LTS) / aarch64  OK    OK    OK  
Package 102/213HostnameOS / ArchINSTALLBUILDCHECKBUILD BIN
miaViz 1.17.9  (landing page)
Tuomas Borman
git_last_commit: 678c690
git_last_commit_date: 2025-06-10 07:22:11 -0400
nebbiolo2Linux (Ubuntu 24.04.3 LTS) / x86_64  OK    OK    ERROR  
lconwaymacOS 12.7.1 Monterey / x86_64  OK    OK    ERROR    OK  
kjohnson3macOS 13.7.7 Ventura / arm64  OK    OK    ERROR    OK  
taishanLinux (openEuler 24.03 LTS) / aarch64  OK    OK    ERROR  
Package 103/213HostnameOS / ArchINSTALLBUILDCHECKBUILD BIN
miloR 2.5.2  (landing page)
Mike Morgan
git_last_commit: be20c8b
git_last_commit_date: 2025-08-29 09:57:51 -0400
nebbiolo2Linux (Ubuntu 24.04.3 LTS) / x86_64  OK    OK    OK  UNNEEDED, same version is already published
lconwaymacOS 12.7.1 Monterey / x86_64  OK    OK    OK    OK  UNNEEDED, same version is already published
kjohnson3macOS 13.7.7 Ventura / arm64  OK    OK    OK    OK  UNNEEDED, same version is already published
taishanLinux (openEuler 24.03 LTS) / aarch64  OK    OK    WARNINGS  
Package 104/213HostnameOS / ArchINSTALLBUILDCHECKBUILD BIN
miQC 1.17.0  (landing page)
Ariel Hippen
git_last_commit: 44cd292
git_last_commit_date: 2025-04-15 12:21:49 -0400
nebbiolo2Linux (Ubuntu 24.04.3 LTS) / x86_64  OK    OK    OK  UNNEEDED, same version is already published
lconwaymacOS 12.7.1 Monterey / x86_64  OK    OK    OK    OK  UNNEEDED, same version is already published
kjohnson3macOS 13.7.7 Ventura / arm64  OK    OK    OK    OK  UNNEEDED, same version is already published
taishanLinux (openEuler 24.03 LTS) / aarch64  OK    OK    OK  
Package 105/213HostnameOS / ArchINSTALLBUILDCHECKBUILD BIN
mist 1.1.0  (landing page)
Daoyu Duan
git_last_commit: d810738
git_last_commit_date: 2025-04-15 13:45:05 -0400
nebbiolo2Linux (Ubuntu 24.04.3 LTS) / x86_64  OK    OK    WARNINGS  UNNEEDED, same version is already published
lconwaymacOS 12.7.1 Monterey / x86_64  OK    OK    WARNINGS    OK  UNNEEDED, same version is already published
kjohnson3macOS 13.7.7 Ventura / arm64  OK    OK    WARNINGS    OK  UNNEEDED, same version is already published
taishanLinux (openEuler 24.03 LTS) / aarch64  OK    OK    WARNINGS  
Package 106/213HostnameOS / ArchINSTALLBUILDCHECKBUILD BIN
MPAC 1.3.0  (landing page)
Peng Liu
git_last_commit: 58c995a
git_last_commit_date: 2025-04-15 13:36:36 -0400
nebbiolo2Linux (Ubuntu 24.04.3 LTS) / x86_64  OK    OK    OK  UNNEEDED, same version is already published
lconwaymacOS 12.7.1 Monterey / x86_64  OK    OK    ERROR    OK  
kjohnson3macOS 13.7.7 Ventura / arm64  OK    OK    OK    OK  UNNEEDED, same version is already published
taishanLinux (openEuler 24.03 LTS) / aarch64  OK    OK    OK  
Package 107/213HostnameOS / ArchINSTALLBUILDCHECKBUILD BIN
MuData 1.13.0  (landing page)
Ilia Kats
git_last_commit: 9b7fe24
git_last_commit_date: 2025-04-15 12:46:30 -0400
nebbiolo2Linux (Ubuntu 24.04.3 LTS) / x86_64  OK    OK    OK  UNNEEDED, same version is already published
lconwaymacOS 12.7.1 Monterey / x86_64  OK    OK    OK    OK  UNNEEDED, same version is already published
kjohnson3macOS 13.7.7 Ventura / arm64  OK    OK    OK    OK  UNNEEDED, same version is already published
taishanLinux (openEuler 24.03 LTS) / aarch64  OK    OK    OK  
Package 108/213HostnameOS / ArchINSTALLBUILDCHECKBUILD BIN
mumosa 1.17.0  (landing page)
Aaron Lun
git_last_commit: 2907a7a
git_last_commit_date: 2025-04-15 12:16:33 -0400
nebbiolo2Linux (Ubuntu 24.04.3 LTS) / x86_64  OK    OK    OK  UNNEEDED, same version is already published
lconwaymacOS 12.7.1 Monterey / x86_64  OK    OK    OK    OK  UNNEEDED, same version is already published
kjohnson3macOS 13.7.7 Ventura / arm64  OK    OK    OK    OK  UNNEEDED, same version is already published
taishanLinux (openEuler 24.03 LTS) / aarch64  OK    OK    OK  
Package 109/213HostnameOS / ArchINSTALLBUILDCHECKBUILD BIN
muscat 1.23.1  (landing page)
Helena L. Crowell
git_last_commit: 38d6c84
git_last_commit_date: 2025-09-21 05:22:08 -0400
nebbiolo2Linux (Ubuntu 24.04.3 LTS) / x86_64  OK    OK    OK  UNNEEDED, same version is already published
lconwaymacOS 12.7.1 Monterey / x86_64  OK    OK    OK    OK  UNNEEDED, same version is already published
kjohnson3macOS 13.7.7 Ventura / arm64  OK    OK    OK    OK  UNNEEDED, same version is already published
taishanLinux (openEuler 24.03 LTS) / aarch64  OK    OK    OK  
Package 110/213HostnameOS / ArchINSTALLBUILDCHECKBUILD BIN
Nebulosa 1.19.0  (landing page)
Jose Alquicira-Hernandez
git_last_commit: 76d9b6b
git_last_commit_date: 2025-04-15 12:06:43 -0400
nebbiolo2Linux (Ubuntu 24.04.3 LTS) / x86_64  OK    OK    OK  UNNEEDED, same version is already published
lconwaymacOS 12.7.1 Monterey / x86_64  OK    OK    OK    OK  UNNEEDED, same version is already published
kjohnson3macOS 13.7.7 Ventura / arm64  OK    OK    OK    OK  UNNEEDED, same version is already published
taishanLinux (openEuler 24.03 LTS) / aarch64  OK    OK    OK  
Package 111/213HostnameOS / ArchINSTALLBUILDCHECKBUILD BIN
netSmooth 1.29.0  (landing page)
Jonathan Ronen
git_last_commit: 8c5f82a
git_last_commit_date: 2025-04-15 11:33:38 -0400
nebbiolo2Linux (Ubuntu 24.04.3 LTS) / x86_64  OK    OK    OK  UNNEEDED, same version is already published
lconwaymacOS 12.7.1 Monterey / x86_64  OK    OK    OK    OK  UNNEEDED, same version is already published
kjohnson3macOS 13.7.7 Ventura / arm64  OK    OK    OK    OK  UNNEEDED, same version is already published
taishanLinux (openEuler 24.03 LTS) / aarch64  OK    OK    OK  
Package 112/213HostnameOS / ArchINSTALLBUILDCHECKBUILD BIN
NewWave 1.19.0  (landing page)
Federico Agostinis
git_last_commit: ed74f0b
git_last_commit_date: 2025-04-15 12:14:43 -0400
nebbiolo2Linux (Ubuntu 24.04.3 LTS) / x86_64  OK    OK    OK  UNNEEDED, same version is already published
lconwaymacOS 12.7.1 Monterey / x86_64  OK    OK    OK    OK  UNNEEDED, same version is already published
kjohnson3macOS 13.7.7 Ventura / arm64  OK    OK    OK    OK  UNNEEDED, same version is already published
taishanLinux (openEuler 24.03 LTS) / aarch64  OK    OK    OK  
Package 113/213HostnameOS / ArchINSTALLBUILDCHECKBUILD BIN
nnSVG 1.13.1  (landing page)
Lukas M. Weber
git_last_commit: dffcd75
git_last_commit_date: 2025-05-18 22:08:24 -0400
nebbiolo2Linux (Ubuntu 24.04.3 LTS) / x86_64  OK    OK    OK  UNNEEDED, same version is already published
lconwaymacOS 12.7.1 Monterey / x86_64  OK    OK    OK    OK  UNNEEDED, same version is already published
kjohnson3macOS 13.7.7 Ventura / arm64  OK    OK    OK    OK  UNNEEDED, same version is already published
taishanLinux (openEuler 24.03 LTS) / aarch64  OK    OK    OK  
Package 114/213HostnameOS / ArchINSTALLBUILDCHECKBUILD BIN
partCNV 1.7.0  (landing page)
Ziyi Li
git_last_commit: 7d3ce0b
git_last_commit_date: 2025-04-15 13:16:11 -0400
nebbiolo2Linux (Ubuntu 24.04.3 LTS) / x86_64  OK    OK    OK  UNNEEDED, same version is already published
lconwaymacOS 12.7.1 Monterey / x86_64  OK    OK    OK    OK  UNNEEDED, same version is already published
kjohnson3macOS 13.7.7 Ventura / arm64  OK    OK    OK    OK  UNNEEDED, same version is already published
taishanLinux (openEuler 24.03 LTS) / aarch64  OK    OK    OK  
Package 115/213HostnameOS / ArchINSTALLBUILDCHECKBUILD BIN
peco 1.21.0  (landing page)
Chiaowen Joyce Hsiao
git_last_commit: a586c22
git_last_commit_date: 2025-04-15 11:56:31 -0400
nebbiolo2Linux (Ubuntu 24.04.3 LTS) / x86_64  OK    OK    OK  UNNEEDED, same version is already published
lconwaymacOS 12.7.1 Monterey / x86_64  OK    OK    OK    OK  UNNEEDED, same version is already published
kjohnson3macOS 13.7.7 Ventura / arm64  OK    OK    OK    OK  UNNEEDED, same version is already published
taishanLinux (openEuler 24.03 LTS) / aarch64  OK    OK    OK  
Package 116/213HostnameOS / ArchINSTALLBUILDCHECKBUILD BIN
pipeComp 1.19.0  (landing page)
Pierre-Luc Germain
git_last_commit: 8ae56d1
git_last_commit_date: 2025-04-15 12:03:57 -0400
nebbiolo2Linux (Ubuntu 24.04.3 LTS) / x86_64  OK    OK    OK  UNNEEDED, same version is already published
lconwaymacOS 12.7.1 Monterey / x86_64  OK    OK    OK    OK  UNNEEDED, same version is already published
kjohnson3macOS 13.7.7 Ventura / arm64  OK    OK    OK    OK  UNNEEDED, same version is already published
taishanLinux (openEuler 24.03 LTS) / aarch64  OK    OK    OK  
Package 117/213HostnameOS / ArchINSTALLBUILDCHECKBUILD BIN
POWSC 1.17.0  (landing page)
Kenong Su
git_last_commit: 25929f7
git_last_commit_date: 2025-04-15 12:30:07 -0400
nebbiolo2Linux (Ubuntu 24.04.3 LTS) / x86_64  OK    OK    OK  NO, package depends on 'MAST' which is not available
lconwaymacOS 12.7.1 Monterey / x86_64  OK    OK    OK    OK  NO, package depends on 'MAST' which is not available
kjohnson3macOS 13.7.7 Ventura / arm64  OK    OK    OK    OK  NO, package depends on 'MAST' which is not available
taishanLinux (openEuler 24.03 LTS) / aarch64  OK    OK    OK  
Package 118/213HostnameOS / ArchINSTALLBUILDCHECKBUILD BIN
projectR 1.25.0  (landing page)
Genevieve Stein-O'Brien
git_last_commit: 0ad0af7
git_last_commit_date: 2025-04-15 11:42:29 -0400
nebbiolo2Linux (Ubuntu 24.04.3 LTS) / x86_64  OK    OK    OK  UNNEEDED, same version is already published
lconwaymacOS 12.7.1 Monterey / x86_64  OK    OK    OK    OK  UNNEEDED, same version is already published
kjohnson3macOS 13.7.7 Ventura / arm64  OK    OK    OK    OK  UNNEEDED, same version is already published
taishanLinux (openEuler 24.03 LTS) / aarch64  OK    OK    OK  
Package 119/213HostnameOS / ArchINSTALLBUILDCHECKBUILD BIN
raer 1.7.2  (landing page)
Kent Riemondy
git_last_commit: cabc5a1
git_last_commit_date: 2025-07-23 15:52:44 -0400
nebbiolo2Linux (Ubuntu 24.04.3 LTS) / x86_64  OK    OK    OK  UNNEEDED, same version is already published
lconwaymacOS 12.7.1 Monterey / x86_64  OK    OK    OK    OK  UNNEEDED, same version is already published
kjohnson3macOS 13.7.7 Ventura / arm64  OK    OK    OK    OK  UNNEEDED, same version is already published
taishanLinux (openEuler 24.03 LTS) / aarch64  OK    OK    OK  
Package 120/213HostnameOS / ArchINSTALLBUILDCHECKBUILD BIN
RCSL 1.17.0  (landing page)
Qinglin Mei
git_last_commit: d6ee94a
git_last_commit_date: 2025-04-15 12:33:13 -0400
nebbiolo2Linux (Ubuntu 24.04.3 LTS) / x86_64  OK    OK    OK  UNNEEDED, same version is already published
lconwaymacOS 12.7.1 Monterey / x86_64  OK    OK    OK    OK  UNNEEDED, same version is already published
kjohnson3macOS 13.7.7 Ventura / arm64  OK    OK    OK    OK  UNNEEDED, same version is already published
taishanLinux (openEuler 24.03 LTS) / aarch64  OK    OK    OK  
Package 121/213HostnameOS / ArchINSTALLBUILDCHECKBUILD BIN
RegionalST 1.7.0  (landing page)
Ziyi Li
git_last_commit: 5bb416d
git_last_commit_date: 2025-04-15 13:18:55 -0400
nebbiolo2Linux (Ubuntu 24.04.3 LTS) / x86_64  OK    OK    OK  UNNEEDED, same version is already published
lconwaymacOS 12.7.1 Monterey / x86_64  OK    OK    OK    OK  UNNEEDED, same version is already published
kjohnson3macOS 13.7.7 Ventura / arm64  OK    OK    OK    OK  UNNEEDED, same version is already published
taishanLinux (openEuler 24.03 LTS) / aarch64  OK    OK    OK  
Package 122/213HostnameOS / ArchINSTALLBUILDCHECKBUILD BIN
RUCova 1.1.0  (landing page)
Rosario Astaburuaga-García
git_last_commit: c8bb9a5
git_last_commit_date: 2025-04-15 13:51:07 -0400
nebbiolo2Linux (Ubuntu 24.04.3 LTS) / x86_64  OK    OK    OK  UNNEEDED, same version is already published
lconwaymacOS 12.7.1 Monterey / x86_64  OK    OK    OK    OK  UNNEEDED, same version is already published
kjohnson3macOS 13.7.7 Ventura / arm64  OK    OK    OK    OK  UNNEEDED, same version is already published
taishanLinux (openEuler 24.03 LTS) / aarch64  OK    OK    OK  
Package 123/213HostnameOS / ArchINSTALLBUILDCHECKBUILD BIN
SanityR 0.99.3  (landing page)
Teo Sakel
git_last_commit: 30898e5
git_last_commit_date: 2025-07-24 11:57:50 -0400
nebbiolo2Linux (Ubuntu 24.04.3 LTS) / x86_64  OK    OK    OK  UNNEEDED, same version is already published
lconwaymacOS 12.7.1 Monterey / x86_64  OK    OK    OK    OK  UNNEEDED, same version is already published
kjohnson3macOS 13.7.7 Ventura / arm64  OK    OK    OK    OK  UNNEEDED, same version is already published
taishanLinux (openEuler 24.03 LTS) / aarch64  OK    OK    OK  
Package 124/213HostnameOS / ArchINSTALLBUILDCHECKBUILD BIN
SC3 1.37.0  (landing page)
Vladimir Kiselev
git_last_commit: b3ee260
git_last_commit_date: 2025-04-15 10:57:37 -0400
nebbiolo2Linux (Ubuntu 24.04.3 LTS) / x86_64  OK    OK    OK  UNNEEDED, same version is already published
lconwaymacOS 12.7.1 Monterey / x86_64  OK    OK    OK    OK  UNNEEDED, same version is already published
kjohnson3macOS 13.7.7 Ventura / arm64  OK    OK    OK    OK  UNNEEDED, same version is already published
taishanLinux (openEuler 24.03 LTS) / aarch64  OK    OK    OK  
Package 125/213HostnameOS / ArchINSTALLBUILDCHECKBUILD BIN
scafari 0.99.12  (landing page)
Sophie Wind
git_last_commit: de95550
git_last_commit_date: 2025-07-29 07:18:09 -0400
nebbiolo2Linux (Ubuntu 24.04.3 LTS) / x86_64  OK    OK    OK  UNNEEDED, same version is already published
lconwaymacOS 12.7.1 Monterey / x86_64  OK    OK    OK    OK  UNNEEDED, same version is already published
kjohnson3macOS 13.7.7 Ventura / arm64  OK    OK    OK    OK  UNNEEDED, same version is already published
taishanLinux (openEuler 24.03 LTS) / aarch64  OK    OK    OK  
Package 126/213HostnameOS / ArchINSTALLBUILDCHECKBUILD BIN
scAnnotatR 1.15.0  (landing page)
Johannes Griss
git_last_commit: a0da05e
git_last_commit_date: 2025-04-15 12:37:49 -0400
nebbiolo2Linux (Ubuntu 24.04.3 LTS) / x86_64  OK    OK    WARNINGS  UNNEEDED, same version is already published
lconwaymacOS 12.7.1 Monterey / x86_64  OK    OK    WARNINGS    OK  UNNEEDED, same version is already published
kjohnson3macOS 13.7.7 Ventura / arm64  OK    OK    WARNINGS    OK  UNNEEDED, same version is already published
taishanLinux (openEuler 24.03 LTS) / aarch64  OK    OK    WARNINGS  
Package 127/213HostnameOS / ArchINSTALLBUILDCHECKBUILD BIN
SCArray 1.17.0  (landing page)
Xiuwen Zheng
git_last_commit: 1ab9e13
git_last_commit_date: 2025-04-15 12:17:12 -0400
nebbiolo2Linux (Ubuntu 24.04.3 LTS) / x86_64  OK    OK    OK  UNNEEDED, same version is already published
lconwaymacOS 12.7.1 Monterey / x86_64  OK    OK    OK    OK  UNNEEDED, same version is already published
kjohnson3macOS 13.7.7 Ventura / arm64  OK    OK    OK    OK  UNNEEDED, same version is already published
taishanLinux (openEuler 24.03 LTS) / aarch64  OK    OK    OK  
Package 128/213HostnameOS / ArchINSTALLBUILDCHECKBUILD BIN
scater 1.37.0  (landing page)
Alan O'Callaghan
git_last_commit: aaaa4b0
git_last_commit_date: 2025-04-15 10:58:25 -0400
nebbiolo2Linux (Ubuntu 24.04.3 LTS) / x86_64  OK    OK    OK  UNNEEDED, same version is already published
lconwaymacOS 12.7.1 Monterey / x86_64  OK    OK    OK    OK  UNNEEDED, same version is already published
kjohnson3macOS 13.7.7 Ventura / arm64  OK    OK    ERROR    OK  
taishanLinux (openEuler 24.03 LTS) / aarch64  OK    OK    OK  
Package 129/213HostnameOS / ArchINSTALLBUILDCHECKBUILD BIN
scBFA 1.23.0  (landing page)
Ruoxin Li
git_last_commit: ea1ad79
git_last_commit_date: 2025-04-15 11:48:27 -0400
nebbiolo2Linux (Ubuntu 24.04.3 LTS) / x86_64  OK    OK    OK  UNNEEDED, same version is already published
lconwaymacOS 12.7.1 Monterey / x86_64  OK    OK    OK    OK  UNNEEDED, same version is already published
kjohnson3macOS 13.7.7 Ventura / arm64  OK    OK    OK    OK  UNNEEDED, same version is already published
taishanLinux (openEuler 24.03 LTS) / aarch64  OK    OK    OK  
Package 130/213HostnameOS / ArchINSTALLBUILDCHECKBUILD BIN
scCB2 1.19.0  (landing page)
Zijian Ni
git_last_commit: 96be392
git_last_commit_date: 2025-04-15 12:04:30 -0400
nebbiolo2Linux (Ubuntu 24.04.3 LTS) / x86_64  OK    OK    OK  UNNEEDED, same version is already published
lconwaymacOS 12.7.1 Monterey / x86_64  OK    OK    OK    OK  UNNEEDED, same version is already published
kjohnson3macOS 13.7.7 Ventura / arm64  OK    OK    OK    OK  UNNEEDED, same version is already published
taishanLinux (openEuler 24.03 LTS) / aarch64  OK    OK    OK  
Package 131/213HostnameOS / ArchINSTALLBUILDCHECKBUILD BIN
sccomp 2.1.17  (landing page)
Stefano Mangiola
git_last_commit: b70ae15
git_last_commit_date: 2025-08-19 07:57:50 -0400
nebbiolo2Linux (Ubuntu 24.04.3 LTS) / x86_64  OK    OK    OK  UNNEEDED, same version is already published
lconwaymacOS 12.7.1 Monterey / x86_64  OK    OK    OK    OK  UNNEEDED, same version is already published
kjohnson3macOS 13.7.7 Ventura / arm64  OK    OK    OK    OK  UNNEEDED, same version is already published
taishanLinux (openEuler 24.03 LTS) / aarch64  OK    OK    OK  
Package 132/213HostnameOS / ArchINSTALLBUILDCHECKBUILD BIN
scDataviz 1.19.0  (landing page)
Kevin Blighe
git_last_commit: cf76812
git_last_commit_date: 2025-04-15 12:05:04 -0400
nebbiolo2Linux (Ubuntu 24.04.3 LTS) / x86_64  OK    OK    OK  UNNEEDED, same version is already published
lconwaymacOS 12.7.1 Monterey / x86_64  OK    OK    OK    OK  UNNEEDED, same version is already published
kjohnson3macOS 13.7.7 Ventura / arm64  OK    OK    OK    OK  UNNEEDED, same version is already published
taishanLinux (openEuler 24.03 LTS) / aarch64  OK    OK    OK  
Package 133/213HostnameOS / ArchINSTALLBUILDCHECKBUILD BIN
scDblFinder 1.23.4  (landing page)
Pierre-Luc Germain
git_last_commit: 4088b78
git_last_commit_date: 2025-08-11 07:14:13 -0400
nebbiolo2Linux (Ubuntu 24.04.3 LTS) / x86_64  OK    OK    WARNINGS  UNNEEDED, same version is already published
lconwaymacOS 12.7.1 Monterey / x86_64  OK    OK    WARNINGS    OK  UNNEEDED, same version is already published
kjohnson3macOS 13.7.7 Ventura / arm64  OK    OK    WARNINGS    OK  UNNEEDED, same version is already published
taishanLinux (openEuler 24.03 LTS) / aarch64  OK    OK    WARNINGS  
Package 134/213HostnameOS / ArchINSTALLBUILDCHECKBUILD BIN
scDD 1.33.0  (landing page)
Keegan Korthauer
git_last_commit: 624c4f1
git_last_commit_date: 2025-04-15 11:07:41 -0400
nebbiolo2Linux (Ubuntu 24.04.3 LTS) / x86_64  OK    OK    OK  UNNEEDED, same version is already published
lconwaymacOS 12.7.1 Monterey / x86_64  OK    OK    OK    OK  UNNEEDED, same version is already published
kjohnson3macOS 13.7.7 Ventura / arm64  OK    OK    OK    OK  UNNEEDED, same version is already published
taishanLinux (openEuler 24.03 LTS) / aarch64  OK    OK    OK  
Package 135/213HostnameOS / ArchINSTALLBUILDCHECKBUILD BIN
scDDboost 1.11.0  (landing page)
Xiuyu Ma
git_last_commit: a51e490
git_last_commit_date: 2025-04-15 12:52:10 -0400
nebbiolo2Linux (Ubuntu 24.04.3 LTS) / x86_64  OK    OK    OK  UNNEEDED, same version is already published
lconwaymacOS 12.7.1 Monterey / x86_64  OK    OK    OK    OK  UNNEEDED, same version is already published
kjohnson3macOS 13.7.7 Ventura / arm64  OK    OK    OK    OK  UNNEEDED, same version is already published
taishanLinux (openEuler 24.03 LTS) / aarch64  OK    OK    WARNINGS  
Package 136/213HostnameOS / ArchINSTALLBUILDCHECKBUILD BIN
scDesign3 1.7.6  (landing page)
Dongyuan Song
git_last_commit: dec8acb
git_last_commit_date: 2025-09-29 13:51:50 -0400
nebbiolo2Linux (Ubuntu 24.04.3 LTS) / x86_64  OK    OK    OK  UNNEEDED, same version is already published
lconwaymacOS 12.7.1 Monterey / x86_64  OK    OK    OK    OK  UNNEEDED, same version is already published
kjohnson3macOS 13.7.7 Ventura / arm64  OK    OK    OK    OK  UNNEEDED, same version is already published
taishanLinux (openEuler 24.03 LTS) / aarch64  OK    OK    ERROR  
Package 137/213HostnameOS / ArchINSTALLBUILDCHECKBUILD BIN
scDiagnostics 1.3.0  (landing page)
Anthony Christidis
git_last_commit: e9987c5
git_last_commit_date: 2025-04-15 13:39:42 -0400
nebbiolo2Linux (Ubuntu 24.04.3 LTS) / x86_64  OK    OK    OK  UNNEEDED, same version is already published
lconwaymacOS 12.7.1 Monterey / x86_64  OK    OK    OK    OK  UNNEEDED, same version is already published
kjohnson3macOS 13.7.7 Ventura / arm64  OK    OK    OK    OK  UNNEEDED, same version is already published
taishanLinux (openEuler 24.03 LTS) / aarch64  OK    OK    OK  
Package 138/213HostnameOS / ArchINSTALLBUILDCHECKBUILD BIN
scDotPlot 1.3.1  (landing page)
Benjamin I Laufer
git_last_commit: 4db1f01
git_last_commit_date: 2025-07-10 13:22:39 -0400
nebbiolo2Linux (Ubuntu 24.04.3 LTS) / x86_64  OK    OK    OK  UNNEEDED, same version is already published
lconwaymacOS 12.7.1 Monterey / x86_64  OK    OK    OK    OK  UNNEEDED, same version is already published
kjohnson3macOS 13.7.7 Ventura / arm64  OK    OK    OK    OK  UNNEEDED, same version is already published
taishanLinux (openEuler 24.03 LTS) / aarch64  OK    OK    OK  
Package 139/213HostnameOS / ArchINSTALLBUILDCHECKBUILD BIN
scds 1.25.0  (landing page)
Dennis Kostka
git_last_commit: 07aceeb
git_last_commit_date: 2025-04-15 11:41:38 -0400
nebbiolo2Linux (Ubuntu 24.04.3 LTS) / x86_64  OK    OK    OK  UNNEEDED, same version is already published
lconwaymacOS 12.7.1 Monterey / x86_64  OK    OK    OK    OK  UNNEEDED, same version is already published
kjohnson3macOS 13.7.7 Ventura / arm64  OK    OK    OK    OK  UNNEEDED, same version is already published
taishanLinux (openEuler 24.03 LTS) / aarch64  OK    OK    OK  
Package 140/213HostnameOS / ArchINSTALLBUILDCHECKBUILD BIN
scGPS 1.23.0  (landing page)
Quan Nguyen
git_last_commit: 9c713b2
git_last_commit_date: 2025-04-15 11:48:06 -0400
nebbiolo2Linux (Ubuntu 24.04.3 LTS) / x86_64  OK    OK    OK  UNNEEDED, same version is already published
lconwaymacOS 12.7.1 Monterey / x86_64  OK    OK    OK    OK  UNNEEDED, same version is already published
kjohnson3macOS 13.7.7 Ventura / arm64  OK    OK    OK    OK  UNNEEDED, same version is already published
taishanLinux (openEuler 24.03 LTS) / aarch64  OK    ERROR  skipped
Package 141/213HostnameOS / ArchINSTALLBUILDCHECKBUILD BIN
schex 1.23.0  (landing page)
Saskia Freytag
git_last_commit: 760995a
git_last_commit_date: 2025-04-15 11:51:45 -0400
nebbiolo2Linux (Ubuntu 24.04.3 LTS) / x86_64  OK    OK    OK  UNNEEDED, same version is already published
lconwaymacOS 12.7.1 Monterey / x86_64  OK    OK    OK    OK  UNNEEDED, same version is already published
kjohnson3macOS 13.7.7 Ventura / arm64  OK    OK    OK    OK  UNNEEDED, same version is already published
taishanLinux (openEuler 24.03 LTS) / aarch64  OK    OK    OK  
Package 142/213HostnameOS / ArchINSTALLBUILDCHECKBUILD BIN
scHOT 1.21.0  (landing page)
Shila Ghazanfar
git_last_commit: 092e074
git_last_commit_date: 2025-04-15 11:57:03 -0400
nebbiolo2Linux (Ubuntu 24.04.3 LTS) / x86_64  OK    OK    OK  UNNEEDED, same version is already published
lconwaymacOS 12.7.1 Monterey / x86_64  OK    OK    OK    OK  UNNEEDED, same version is already published
kjohnson3macOS 13.7.7 Ventura / arm64  OK    OK    OK    OK  UNNEEDED, same version is already published
taishanLinux (openEuler 24.03 LTS) / aarch64  OK    OK    OK  
Package 143/213HostnameOS / ArchINSTALLBUILDCHECKBUILD BIN
scider 1.7.1  (landing page)
Yunshun Chen
git_last_commit: 4a82b0f
git_last_commit_date: 2025-10-03 01:53:39 -0400
nebbiolo2Linux (Ubuntu 24.04.3 LTS) / x86_64  OK    OK    OK  YES
lconwaymacOS 12.7.1 Monterey / x86_64  ERROR    ERROR  skippedskipped
kjohnson3macOS 13.7.7 Ventura / arm64  ERROR    ERROR  skippedskipped
taishanLinux (openEuler 24.03 LTS) / aarch64  OK    OK    OK  
Package 144/213HostnameOS / ArchINSTALLBUILDCHECKBUILD BIN
scmap 1.31.0  (landing page)
Vladimir Kiselev
git_last_commit: cdb1e47
git_last_commit_date: 2025-04-15 11:12:07 -0400
nebbiolo2Linux (Ubuntu 24.04.3 LTS) / x86_64  OK    OK    OK  UNNEEDED, same version is already published
lconwaymacOS 12.7.1 Monterey / x86_64  OK    OK    OK    OK  UNNEEDED, same version is already published
kjohnson3macOS 13.7.7 Ventura / arm64  OK    OK    OK    OK  UNNEEDED, same version is already published
taishanLinux (openEuler 24.03 LTS) / aarch64  OK    OK    OK  
Package 145/213HostnameOS / ArchINSTALLBUILDCHECKBUILD BIN
scMerge 1.25.0  (landing page)
Yingxin Lin
git_last_commit: a277f5a
git_last_commit_date: 2025-04-15 11:44:10 -0400
nebbiolo2Linux (Ubuntu 24.04.3 LTS) / x86_64  OK    OK    OK  UNNEEDED, same version is already published
lconwaymacOS 12.7.1 Monterey / x86_64  OK    OK    OK    OK  UNNEEDED, same version is already published
kjohnson3macOS 13.7.7 Ventura / arm64  OK    OK    OK    OK  UNNEEDED, same version is already published
taishanLinux (openEuler 24.03 LTS) / aarch64  OK    ERROR  skipped
Package 146/213HostnameOS / ArchINSTALLBUILDCHECKBUILD BIN
scMET 1.11.0  (landing page)
Andreas C. Kapourani
git_last_commit: 2372e05
git_last_commit_date: 2025-04-15 12:54:05 -0400
nebbiolo2Linux (Ubuntu 24.04.3 LTS) / x86_64  OK    OK    OK  UNNEEDED, same version is already published
lconwaymacOS 12.7.1 Monterey / x86_64  OK    OK    OK    OK  UNNEEDED, same version is already published
kjohnson3macOS 13.7.7 Ventura / arm64  OK    OK    OK    OK  UNNEEDED, same version is already published
taishanLinux (openEuler 24.03 LTS) / aarch64  OK    OK    WARNINGS  
Package 147/213HostnameOS / ArchINSTALLBUILDCHECKBUILD BIN
SCnorm 1.31.1  (landing page)
Rhonda Bacher
git_last_commit: 80c0c53
git_last_commit_date: 2025-06-11 13:46:02 -0400
nebbiolo2Linux (Ubuntu 24.04.3 LTS) / x86_64  OK    OK    OK  UNNEEDED, same version is already published
lconwaymacOS 12.7.1 Monterey / x86_64  OK    OK    OK    OK  UNNEEDED, same version is already published
kjohnson3macOS 13.7.7 Ventura / arm64  OK    OK    OK    OK  UNNEEDED, same version is already published
taishanLinux (openEuler 24.03 LTS) / aarch64  OK    OK    OK  
Package 148/213HostnameOS / ArchINSTALLBUILDCHECKBUILD BIN
scone 1.33.0  (landing page)
Davide Risso
git_last_commit: c549469
git_last_commit_date: 2025-04-15 11:07:45 -0400
nebbiolo2Linux (Ubuntu 24.04.3 LTS) / x86_64  OK    OK    OK  UNNEEDED, same version is already published
lconwaymacOS 12.7.1 Monterey / x86_64  OK    OK    OK    OK  UNNEEDED, same version is already published
kjohnson3macOS 13.7.7 Ventura / arm64  OK    OK    OK    OK  UNNEEDED, same version is already published
taishanLinux (openEuler 24.03 LTS) / aarch64  OK    OK    OK  
Package 149/213HostnameOS / ArchINSTALLBUILDCHECKBUILD BIN
scp 1.19.4  (landing page)
Christophe Vanderaa
git_last_commit: 8fc42ca
git_last_commit_date: 2025-09-14 13:33:11 -0400
nebbiolo2Linux (Ubuntu 24.04.3 LTS) / x86_64  OK    OK    WARNINGS  UNNEEDED, same version is already published
lconwaymacOS 12.7.1 Monterey / x86_64  OK    OK    WARNINGS    OK  UNNEEDED, same version is already published
kjohnson3macOS 13.7.7 Ventura / arm64  OK    OK    ERROR    OK  
taishanLinux (openEuler 24.03 LTS) / aarch64  OK    OK    WARNINGS  
Package 150/213HostnameOS / ArchINSTALLBUILDCHECKBUILD BIN
scPipe 2.9.0  (landing page)
Shian Su
git_last_commit: f3a6ca4
git_last_commit_date: 2025-04-15 11:15:16 -0400
nebbiolo2Linux (Ubuntu 24.04.3 LTS) / x86_64  OK    OK    OK  UNNEEDED, same version is already published
lconwaymacOS 12.7.1 Monterey / x86_64  OK    OK    OK    OK  UNNEEDED, same version is already published
kjohnson3macOS 13.7.7 Ventura / arm64  OK    OK    OK    OK  UNNEEDED, same version is already published
taishanLinux (openEuler 24.03 LTS) / aarch64  OK    OK    OK  
Package 151/213HostnameOS / ArchINSTALLBUILDCHECKBUILD BIN
scQTLtools 1.1.7  (landing page)
Xiaofeng Wu
git_last_commit: 6c77f29
git_last_commit_date: 2025-06-15 11:49:30 -0400
nebbiolo2Linux (Ubuntu 24.04.3 LTS) / x86_64  OK    OK    ERROR  
lconwaymacOS 12.7.1 Monterey / x86_64  OK    OK    ERROR    OK  
kjohnson3macOS 13.7.7 Ventura / arm64  OK    OK    ERROR    OK  
taishanLinux (openEuler 24.03 LTS) / aarch64  OK    OK    ERROR  
Package 152/213HostnameOS / ArchINSTALLBUILDCHECKBUILD BIN
scran 1.37.0  (landing page)
Aaron Lun
git_last_commit: 5aa5fc4
git_last_commit_date: 2025-04-15 11:00:55 -0400
nebbiolo2Linux (Ubuntu 24.04.3 LTS) / x86_64  OK    OK    WARNINGS  UNNEEDED, same version is already published
lconwaymacOS 12.7.1 Monterey / x86_64  OK    OK    WARNINGS    OK  UNNEEDED, same version is already published
kjohnson3macOS 13.7.7 Ventura / arm64  OK    OK    WARNINGS    OK  UNNEEDED, same version is already published
taishanLinux (openEuler 24.03 LTS) / aarch64  OK    OK    WARNINGS  
Package 153/213HostnameOS / ArchINSTALLBUILDCHECKBUILD BIN
scReClassify 1.15.0  (landing page)
Taiyun Kim
git_last_commit: cb28cea
git_last_commit_date: 2025-04-15 12:38:16 -0400
nebbiolo2Linux (Ubuntu 24.04.3 LTS) / x86_64  OK    OK    OK  UNNEEDED, same version is already published
lconwaymacOS 12.7.1 Monterey / x86_64  OK    OK    OK    OK  UNNEEDED, same version is already published
kjohnson3macOS 13.7.7 Ventura / arm64  OK    OK    OK    OK  UNNEEDED, same version is already published
taishanLinux (openEuler 24.03 LTS) / aarch64  OK    OK    OK  
Package 154/213HostnameOS / ArchINSTALLBUILDCHECKBUILD BIN
scRepertoire 2.5.6  (landing page)
Nick Borcherding
git_last_commit: bbd600d
git_last_commit_date: 2025-10-01 09:12:49 -0400
nebbiolo2Linux (Ubuntu 24.04.3 LTS) / x86_64  OK    OK    OK  UNNEEDED, same version is already published
lconwaymacOS 12.7.1 Monterey / x86_64  OK    OK    OK    OK  UNNEEDED, same version is already published
kjohnson3macOS 13.7.7 Ventura / arm64  OK    OK    OK    OK  UNNEEDED, same version is already published
taishanLinux (openEuler 24.03 LTS) / aarch64  OK    OK    OK  
Package 155/213HostnameOS / ArchINSTALLBUILDCHECKBUILD BIN
scRNAseqApp 1.9.26  (landing page)
Jianhong Ou
git_last_commit: 30b55d8
git_last_commit_date: 2025-09-24 14:18:44 -0400
nebbiolo2Linux (Ubuntu 24.04.3 LTS) / x86_64  OK    OK    OK  UNNEEDED, same version is already published
lconwaymacOS 12.7.1 Monterey / x86_64  OK    OK    OK    OK  UNNEEDED, same version is already published
kjohnson3macOS 13.7.7 Ventura / arm64  OK    OK    OK    OK  UNNEEDED, same version is already published
taishanLinux (openEuler 24.03 LTS) / aarch64  OK    OK    OK  
Package 156/213HostnameOS / ArchINSTALLBUILDCHECKBUILD BIN
scruff 1.27.0  (landing page)
Zhe Wang
git_last_commit: e1c6930
git_last_commit_date: 2025-09-29 21:23:41 -0400
nebbiolo2Linux (Ubuntu 24.04.3 LTS) / x86_64  OK    ERROR  skipped
lconwaymacOS 12.7.1 Monterey / x86_64  OK    ERROR  skippedskipped
kjohnson3macOS 13.7.7 Ventura / arm64  OK    ERROR  skippedskipped
taishanLinux (openEuler 24.03 LTS) / aarch64  OK    ERROR  skipped
Package 157/213HostnameOS / ArchINSTALLBUILDCHECKBUILD BIN
scry 1.21.0  (landing page)
Kelly Street
git_last_commit: 6db3cd0
git_last_commit_date: 2025-04-15 11:58:11 -0400
nebbiolo2Linux (Ubuntu 24.04.3 LTS) / x86_64  OK    OK    OK  UNNEEDED, same version is already published
lconwaymacOS 12.7.1 Monterey / x86_64  OK    OK    OK    OK  UNNEEDED, same version is already published
kjohnson3macOS 13.7.7 Ventura / arm64  OK    OK    OK    OK  UNNEEDED, same version is already published
taishanLinux (openEuler 24.03 LTS) / aarch64  OK    OK    OK  
Package 158/213HostnameOS / ArchINSTALLBUILDCHECKBUILD BIN
scTensor 2.19.2  (landing page)
Koki Tsuyuzaki
git_last_commit: ef4c449
git_last_commit_date: 2025-06-19 03:03:15 -0400
nebbiolo2Linux (Ubuntu 24.04.3 LTS) / x86_64  OK    OK    WARNINGS  UNNEEDED, same version is already published
lconwaymacOS 12.7.1 Monterey / x86_64  OK    OK    WARNINGS    OK  UNNEEDED, same version is already published
kjohnson3macOS 13.7.7 Ventura / arm64  OK    OK    WARNINGS    OK  UNNEEDED, same version is already published
taishanLinux (openEuler 24.03 LTS) / aarch64  OK    OK    WARNINGS  
Package 159/213HostnameOS / ArchINSTALLBUILDCHECKBUILD BIN
scTGIF 1.23.0  (landing page)
Koki Tsuyuzaki
git_last_commit: 36eb226
git_last_commit_date: 2025-04-15 11:52:24 -0400
nebbiolo2Linux (Ubuntu 24.04.3 LTS) / x86_64  OK    OK    OK  UNNEEDED, same version is already published
lconwaymacOS 12.7.1 Monterey / x86_64  OK    OK    OK    OK  UNNEEDED, same version is already published
kjohnson3macOS 13.7.7 Ventura / arm64  OK    OK    OK    OK  UNNEEDED, same version is already published
taishanLinux (openEuler 24.03 LTS) / aarch64  OK    OK    OK  
Package 160/213HostnameOS / ArchINSTALLBUILDCHECKBUILD BIN
scTreeViz 1.15.0  (landing page)
Jayaram Kancherla
git_last_commit: f560983
git_last_commit_date: 2025-04-15 12:39:39 -0400
nebbiolo2Linux (Ubuntu 24.04.3 LTS) / x86_64  OK    OK    OK  UNNEEDED, same version is already published
lconwaymacOS 12.7.1 Monterey / x86_64  OK    OK    OK    OK  UNNEEDED, same version is already published
kjohnson3macOS 13.7.7 Ventura / arm64  OK    OK    OK    OK  UNNEEDED, same version is already published
taishanLinux (openEuler 24.03 LTS) / aarch64  OK    OK    OK  
Package 161/213HostnameOS / ArchINSTALLBUILDCHECKBUILD BIN
scuttle 1.19.0  (landing page)
Aaron Lun
git_last_commit: bdcc1f8
git_last_commit_date: 2025-04-15 11:59:18 -0400
nebbiolo2Linux (Ubuntu 24.04.3 LTS) / x86_64  OK    OK    OK  UNNEEDED, same version is already published
lconwaymacOS 12.7.1 Monterey / x86_64  OK    OK    OK    OK  UNNEEDED, same version is already published
kjohnson3macOS 13.7.7 Ventura / arm64  OK    OK    OK    OK  UNNEEDED, same version is already published
taishanLinux (openEuler 24.03 LTS) / aarch64  OK    OK    OK  
Package 162/213HostnameOS / ArchINSTALLBUILDCHECKBUILD BIN
scviR 1.9.11  (landing page)
Vincent Carey
git_last_commit: 5dd474c
git_last_commit_date: 2025-05-12 05:55:48 -0400
nebbiolo2Linux (Ubuntu 24.04.3 LTS) / x86_64  OK    OK    OK  UNNEEDED, same version is already published
lconwaymacOS 12.7.1 Monterey / x86_64  OK    ERROR  skippedskipped
kjohnson3macOS 13.7.7 Ventura / arm64  OK    ERROR  skippedskipped
taishanLinux (openEuler 24.03 LTS) / aarch64  OK    ERROR  skipped
Package 163/213HostnameOS / ArchINSTALLBUILDCHECKBUILD BIN
SETA 0.99.6  (landing page)
Kyle Kimler
git_last_commit: 020938d
git_last_commit_date: 2025-09-28 22:25:50 -0400
nebbiolo2Linux (Ubuntu 24.04.3 LTS) / x86_64  OK    OK    ERROR  
lconwaymacOS 12.7.1 Monterey / x86_64  OK    OK    OK    OK  YES
kjohnson3macOS 13.7.7 Ventura / arm64  OK    OK    OK    OK  YES
taishanLinux (openEuler 24.03 LTS) / aarch64  NA    NA    NA  
Package 164/213HostnameOS / ArchINSTALLBUILDCHECKBUILD BIN
shinyDSP 1.1.2  (landing page)
Seung J. Kim
git_last_commit: e8ec355
git_last_commit_date: 2025-06-12 01:45:14 -0400
nebbiolo2Linux (Ubuntu 24.04.3 LTS) / x86_64  OK    OK    OK  UNNEEDED, same version is already published
lconwaymacOS 12.7.1 Monterey / x86_64  OK    OK    OK    OK  UNNEEDED, same version is already published
kjohnson3macOS 13.7.7 Ventura / arm64  OK    OK    OK    OK  UNNEEDED, same version is already published
taishanLinux (openEuler 24.03 LTS) / aarch64  OK    OK    OK  
Package 165/213HostnameOS / ArchINSTALLBUILDCHECKBUILD BIN
simPIC 1.5.3  (landing page)
Sagrika Chugh
git_last_commit: 81a5788
git_last_commit_date: 2025-05-22 02:25:31 -0400
nebbiolo2Linux (Ubuntu 24.04.3 LTS) / x86_64  OK    OK    OK  UNNEEDED, same version is already published
lconwaymacOS 12.7.1 Monterey / x86_64  OK    OK    OK    OK  UNNEEDED, same version is already published
kjohnson3macOS 13.7.7 Ventura / arm64  OK    OK    OK    OK  UNNEEDED, same version is already published
taishanLinux (openEuler 24.03 LTS) / aarch64  ERROR    ERROR  skipped
Package 166/213HostnameOS / ArchINSTALLBUILDCHECKBUILD BIN
SingleCellAlleleExperiment 1.5.1  (landing page)
Jonas Schuck
git_last_commit: 51fab37
git_last_commit_date: 2025-09-03 05:37:02 -0400
nebbiolo2Linux (Ubuntu 24.04.3 LTS) / x86_64  OK    OK    OK  UNNEEDED, same version is already published
lconwaymacOS 12.7.1 Monterey / x86_64  OK    OK    OK    OK  UNNEEDED, same version is already published
kjohnson3macOS 13.7.7 Ventura / arm64  OK    OK    OK    OK  UNNEEDED, same version is already published
taishanLinux (openEuler 24.03 LTS) / aarch64  OK    OK    OK  
Package 167/213HostnameOS / ArchINSTALLBUILDCHECKBUILD BIN
singleCellTK 2.19.2  (landing page)
Joshua David Campbell
git_last_commit: 238aed05
git_last_commit_date: 2025-09-26 08:22:06 -0400
nebbiolo2Linux (Ubuntu 24.04.3 LTS) / x86_64  OK    OK    ERROR  
lconwaymacOS 12.7.1 Monterey / x86_64  OK    OK    ERROR    OK  
kjohnson3macOS 13.7.7 Ventura / arm64  OK    OK    ERROR    OK  
taishanLinux (openEuler 24.03 LTS) / aarch64  OK    OK    OK  
Package 168/213HostnameOS / ArchINSTALLBUILDCHECKBUILD BIN
SiPSiC 1.9.0  (landing page)
Daniel Davis
git_last_commit: 8b4fd2f
git_last_commit_date: 2025-04-15 13:13:06 -0400
nebbiolo2Linux (Ubuntu 24.04.3 LTS) / x86_64  OK    OK    OK  UNNEEDED, same version is already published
lconwaymacOS 12.7.1 Monterey / x86_64  OK    OK    OK    OK  UNNEEDED, same version is already published
kjohnson3macOS 13.7.7 Ventura / arm64  OK    OK    OK    OK  UNNEEDED, same version is already published
taishanLinux (openEuler 24.03 LTS) / aarch64  OK    OK    OK  
Package 169/213HostnameOS / ArchINSTALLBUILDCHECKBUILD BIN
slalom 1.31.0  (landing page)
Davis McCarthy
git_last_commit: 7bfebe9
git_last_commit_date: 2025-04-15 11:15:09 -0400
nebbiolo2Linux (Ubuntu 24.04.3 LTS) / x86_64  OK    OK    WARNINGS  UNNEEDED, same version is already published
lconwaymacOS 12.7.1 Monterey / x86_64  ERROR    ERROR  skippedskipped
kjohnson3macOS 13.7.7 Ventura / arm64  ERROR    ERROR  skippedskipped
taishanLinux (openEuler 24.03 LTS) / aarch64  OK    OK    WARNINGS  
Package 170/213HostnameOS / ArchINSTALLBUILDCHECKBUILD BIN
slingshot 2.17.0  (landing page)
Kelly Street
git_last_commit: ce58857
git_last_commit_date: 2025-04-15 11:34:17 -0400
nebbiolo2Linux (Ubuntu 24.04.3 LTS) / x86_64  OK    OK    OK  UNNEEDED, same version is already published
lconwaymacOS 12.7.1 Monterey / x86_64  OK    OK    OK    OK  UNNEEDED, same version is already published
kjohnson3macOS 13.7.7 Ventura / arm64  OK    OK    OK    OK  UNNEEDED, same version is already published
taishanLinux (openEuler 24.03 LTS) / aarch64  OK    ERROR  skipped
Package 171/213HostnameOS / ArchINSTALLBUILDCHECKBUILD BIN
sosta 1.1.1  (landing page)
Samuel Gunz
git_last_commit: 9c2fd54
git_last_commit_date: 2025-07-17 17:50:30 -0400
nebbiolo2Linux (Ubuntu 24.04.3 LTS) / x86_64  OK    OK    OK  UNNEEDED, same version is already published
lconwaymacOS 12.7.1 Monterey / x86_64  OK    OK    OK    OK  UNNEEDED, same version is already published
kjohnson3macOS 13.7.7 Ventura / arm64  OK    OK    OK    OK  UNNEEDED, same version is already published
taishanLinux (openEuler 24.03 LTS) / aarch64  OK    OK    OK  
Package 172/213HostnameOS / ArchINSTALLBUILDCHECKBUILD BIN
Spaniel 1.23.0  (landing page)
Rachel Queen
git_last_commit: 11182b5
git_last_commit_date: 2025-04-15 11:50:12 -0400
nebbiolo2Linux (Ubuntu 24.04.3 LTS) / x86_64  OK    OK    OK  UNNEEDED, same version is already published
lconwaymacOS 12.7.1 Monterey / x86_64  OK    OK    OK    OK  UNNEEDED, same version is already published
kjohnson3macOS 13.7.7 Ventura / arm64  OK    OK    OK    OK  UNNEEDED, same version is already published
taishanLinux (openEuler 24.03 LTS) / aarch64  OK    OK    OK  
Package 173/213HostnameOS / ArchINSTALLBUILDCHECKBUILD BIN
SpaNorm 1.3.0  (landing page)
Dharmesh D. Bhuva
git_last_commit: 7e8bee9
git_last_commit_date: 2025-04-15 13:42:58 -0400
nebbiolo2Linux (Ubuntu 24.04.3 LTS) / x86_64  OK    OK    OK  UNNEEDED, same version is already published
lconwaymacOS 12.7.1 Monterey / x86_64  OK    OK    OK    OK  UNNEEDED, same version is already published
kjohnson3macOS 13.7.7 Ventura / arm64  OK    OK    OK    OK  UNNEEDED, same version is already published
taishanLinux (openEuler 24.03 LTS) / aarch64  OK    OK    OK  
Package 174/213HostnameOS / ArchINSTALLBUILDCHECKBUILD BIN
SpatialExperiment 1.19.1  (landing page)
Dario Righelli
git_last_commit: 0b29537
git_last_commit_date: 2025-05-08 10:03:51 -0400
nebbiolo2Linux (Ubuntu 24.04.3 LTS) / x86_64  OK    OK    OK  UNNEEDED, same version is already published
lconwaymacOS 12.7.1 Monterey / x86_64  OK    OK    OK    OK  UNNEEDED, same version is already published
kjohnson3macOS 13.7.7 Ventura / arm64  OK    OK    OK    OK  UNNEEDED, same version is already published
taishanLinux (openEuler 24.03 LTS) / aarch64  OK    OK    OK  
Package 175/213HostnameOS / ArchINSTALLBUILDCHECKBUILD BIN
SpatialExperimentIO 1.1.0  (landing page)
Yixing E. Dong
git_last_commit: a7ffc23
git_last_commit_date: 2025-04-15 13:46:21 -0400
nebbiolo2Linux (Ubuntu 24.04.3 LTS) / x86_64  OK    OK    OK  UNNEEDED, same version is already published
lconwaymacOS 12.7.1 Monterey / x86_64  OK    OK    OK    OK  UNNEEDED, same version is already published
kjohnson3macOS 13.7.7 Ventura / arm64  OK    OK    OK    OK  UNNEEDED, same version is already published
taishanLinux (openEuler 24.03 LTS) / aarch64  OK    OK    OK  
Package 176/213HostnameOS / ArchINSTALLBUILDCHECKBUILD BIN
SpatialFeatureExperiment 1.11.1  (landing page)
Lambda Moses
git_last_commit: 80353da
git_last_commit_date: 2025-09-25 21:36:28 -0400
nebbiolo2Linux (Ubuntu 24.04.3 LTS) / x86_64  OK    OK    OK  UNNEEDED, same version is already published
lconwaymacOS 12.7.1 Monterey / x86_64  OK    OK    OK    OK  UNNEEDED, same version is already published
kjohnson3macOS 13.7.7 Ventura / arm64  OK    OK    ERROR    OK  
taishanLinux (openEuler 24.03 LTS) / aarch64  OK    OK    ERROR  
Package 177/213HostnameOS / ArchINSTALLBUILDCHECKBUILD BIN
spatialHeatmap 2.15.1  (landing page)
Jianhai Zhang
git_last_commit: 5c1ec61
git_last_commit_date: 2025-06-19 22:40:19 -0400
nebbiolo2Linux (Ubuntu 24.04.3 LTS) / x86_64  OK    ERROR  skipped
lconwaymacOS 12.7.1 Monterey / x86_64  OK    OK    OK    OK  UNNEEDED, same version is already published
kjohnson3macOS 13.7.7 Ventura / arm64  OK    OK    OK    OK  UNNEEDED, same version is already published
taishanLinux (openEuler 24.03 LTS) / aarch64  OK    OK    OK  
Package 178/213HostnameOS / ArchINSTALLBUILDCHECKBUILD BIN
speckle 1.9.0  (landing page)
Belinda Phipson
git_last_commit: b6517b1
git_last_commit_date: 2025-04-15 13:00:31 -0400
nebbiolo2Linux (Ubuntu 24.04.3 LTS) / x86_64  OK    OK    OK  UNNEEDED, same version is already published
lconwaymacOS 12.7.1 Monterey / x86_64  OK    OK    OK    OK  UNNEEDED, same version is already published
kjohnson3macOS 13.7.7 Ventura / arm64  OK    OK    OK    OK  UNNEEDED, same version is already published
taishanLinux (openEuler 24.03 LTS) / aarch64  OK    OK    OK  
Package 179/213HostnameOS / ArchINSTALLBUILDCHECKBUILD BIN
spicyR 1.21.8  (landing page)
Ellis Patrick
git_last_commit: 21dfb33
git_last_commit_date: 2025-09-19 09:46:22 -0400
nebbiolo2Linux (Ubuntu 24.04.3 LTS) / x86_64  OK    OK    OK  UNNEEDED, same version is already published
lconwaymacOS 12.7.1 Monterey / x86_64  OK    OK    OK    OK  UNNEEDED, same version is already published
kjohnson3macOS 13.7.7 Ventura / arm64  OK    OK    OK    OK  UNNEEDED, same version is already published
taishanLinux (openEuler 24.03 LTS) / aarch64  OK    OK    OK  
Package 180/213HostnameOS / ArchINSTALLBUILDCHECKBUILD BIN
splatter 1.33.1  (landing page)
Luke Zappia
git_last_commit: 230eec3
git_last_commit_date: 2025-07-08 15:04:15 -0400
nebbiolo2Linux (Ubuntu 24.04.3 LTS) / x86_64  OK    OK    OK  UNNEEDED, same version is already published
lconwaymacOS 12.7.1 Monterey / x86_64  OK    OK    OK    OK  UNNEEDED, same version is already published
kjohnson3macOS 13.7.7 Ventura / arm64  OK    OK    OK    OK  UNNEEDED, same version is already published
taishanLinux (openEuler 24.03 LTS) / aarch64  OK    OK    OK  
Package 181/213HostnameOS / ArchINSTALLBUILDCHECKBUILD BIN
SplineDV 1.1.1  (landing page)
Shreyan Gupta
git_last_commit: 16d71a5
git_last_commit_date: 2025-05-01 16:49:20 -0400
nebbiolo2Linux (Ubuntu 24.04.3 LTS) / x86_64  OK    OK    OK  UNNEEDED, same version is already published
lconwaymacOS 12.7.1 Monterey / x86_64  OK    OK    OK    OK  UNNEEDED, same version is already published
kjohnson3macOS 13.7.7 Ventura / arm64  OK    OK    OK    OK  UNNEEDED, same version is already published
taishanLinux (openEuler 24.03 LTS) / aarch64  OK    OK    OK  
Package 182/213HostnameOS / ArchINSTALLBUILDCHECKBUILD BIN
SPOTlight 1.13.1  (landing page)
Marc Elosua-Bayes
git_last_commit: 4f27474
git_last_commit_date: 2025-10-01 11:06:24 -0400
nebbiolo2Linux (Ubuntu 24.04.3 LTS) / x86_64  OK    OK    OK  UNNEEDED, same version is already published
lconwaymacOS 12.7.1 Monterey / x86_64  OK    OK    OK    OK  UNNEEDED, same version is already published
kjohnson3macOS 13.7.7 Ventura / arm64  OK    OK    OK    OK  UNNEEDED, same version is already published
taishanLinux (openEuler 24.03 LTS) / aarch64  OK    OK    WARNINGS  
Package 183/213HostnameOS / ArchINSTALLBUILDCHECKBUILD BIN
SpotSweeper 1.5.0  (landing page)
Michael Totty
git_last_commit: 087c6dd
git_last_commit_date: 2025-04-15 13:34:31 -0400
nebbiolo2Linux (Ubuntu 24.04.3 LTS) / x86_64  OK    OK    OK  UNNEEDED, same version is already published
lconwaymacOS 12.7.1 Monterey / x86_64  OK    OK    OK    OK  UNNEEDED, same version is already published
kjohnson3macOS 13.7.7 Ventura / arm64  OK    OK    OK    OK  UNNEEDED, same version is already published
taishanLinux (openEuler 24.03 LTS) / aarch64  OK    OK    OK  
Package 184/213HostnameOS / ArchINSTALLBUILDCHECKBUILD BIN
SPsimSeq 1.19.0  (landing page)
Joris Meys
git_last_commit: 59a1490
git_last_commit_date: 2025-04-15 12:03:09 -0400
nebbiolo2Linux (Ubuntu 24.04.3 LTS) / x86_64  OK    OK    OK  UNNEEDED, same version is already published
lconwaymacOS 12.7.1 Monterey / x86_64  OK    OK    OK    OK  UNNEEDED, same version is already published
kjohnson3macOS 13.7.7 Ventura / arm64  OK    OK    OK    OK  UNNEEDED, same version is already published
taishanLinux (openEuler 24.03 LTS) / aarch64  OK    OK    OK  
Package 185/213HostnameOS / ArchINSTALLBUILDCHECKBUILD BIN
standR 1.13.0  (landing page)
Ning Liu
git_last_commit: cbb5c6a
git_last_commit_date: 2025-07-31 19:48:04 -0400
nebbiolo2Linux (Ubuntu 24.04.3 LTS) / x86_64  OK    OK    OK  UNNEEDED, same version is already published
lconwaymacOS 12.7.1 Monterey / x86_64  OK    OK    OK    OK  UNNEEDED, same version is already published
kjohnson3macOS 13.7.7 Ventura / arm64  OK    OK    OK    OK  UNNEEDED, same version is already published
taishanLinux (openEuler 24.03 LTS) / aarch64  OK    OK    OK  
Package 186/213HostnameOS / ArchINSTALLBUILDCHECKBUILD BIN
Statial 1.11.6  (landing page)
Farhan Ameen
git_last_commit: d178b9e
git_last_commit_date: 2025-09-26 06:49:20 -0400
nebbiolo2Linux (Ubuntu 24.04.3 LTS) / x86_64  OK    OK    OK  UNNEEDED, same version is already published
lconwaymacOS 12.7.1 Monterey / x86_64  OK    OK    OK    OK  UNNEEDED, same version is already published
kjohnson3macOS 13.7.7 Ventura / arm64  OK    OK    OK    OK  UNNEEDED, same version is already published
taishanLinux (openEuler 24.03 LTS) / aarch64  OK    OK    OK  
Package 187/213HostnameOS / ArchINSTALLBUILDCHECKBUILD BIN
stPipe 0.99.994  (landing page)
Yang Xu
git_last_commit: 507e0a0
git_last_commit_date: 2025-09-05 06:55:10 -0400
nebbiolo2Linux (Ubuntu 24.04.3 LTS) / x86_64  OK    OK    WARNINGS  UNNEEDED, same version is already published
lconwaymacOS 12.7.1 Monterey / x86_64  ERROR    ERROR  skippedskipped
kjohnson3macOS 13.7.7 Ventura / arm64  ERROR    ERROR  skippedskipped
taishanLinux (openEuler 24.03 LTS) / aarch64  OK    OK    WARNINGS  
Package 188/213HostnameOS / ArchINSTALLBUILDCHECKBUILD BIN
SVP 1.1.0  (landing page)
Shuangbin Xu
git_last_commit: a9a165a
git_last_commit_date: 2025-04-15 13:49:09 -0400
nebbiolo2Linux (Ubuntu 24.04.3 LTS) / x86_64  OK    OK    OK  UNNEEDED, same version is already published
lconwaymacOS 12.7.1 Monterey / x86_64  OK    OK    OK    OK  UNNEEDED, same version is already published
kjohnson3macOS 13.7.7 Ventura / arm64  OK    OK    OK    OK  UNNEEDED, same version is already published
taishanLinux (openEuler 24.03 LTS) / aarch64  OK    ERROR  skipped
Package 189/213HostnameOS / ArchINSTALLBUILDCHECKBUILD BIN
switchde 1.35.0  (landing page)
Kieran Campbell
git_last_commit: b556f84
git_last_commit_date: 2025-04-15 11:04:23 -0400
nebbiolo2Linux (Ubuntu 24.04.3 LTS) / x86_64  OK    OK    OK  UNNEEDED, same version is already published
lconwaymacOS 12.7.1 Monterey / x86_64  OK    OK    OK    OK  UNNEEDED, same version is already published
kjohnson3macOS 13.7.7 Ventura / arm64  OK    OK    OK    OK  UNNEEDED, same version is already published
taishanLinux (openEuler 24.03 LTS) / aarch64  OK    OK    OK  
Package 190/213HostnameOS / ArchINSTALLBUILDCHECKBUILD BIN
TENxIO 1.11.5  (landing page)
Marcel Ramos
git_last_commit: f7f2c88
git_last_commit_date: 2025-06-21 01:21:24 -0400
nebbiolo2Linux (Ubuntu 24.04.3 LTS) / x86_64  OK    OK    OK  UNNEEDED, same version is already published
lconwaymacOS 12.7.1 Monterey / x86_64  OK    ERROR  skippedskipped
kjohnson3macOS 13.7.7 Ventura / arm64  OK    ERROR  skippedskipped
taishanLinux (openEuler 24.03 LTS) / aarch64  OK    OK    OK  
Package 191/213HostnameOS / ArchINSTALLBUILDCHECKBUILD BIN
tidySingleCellExperiment 1.19.0  (landing page)
Stefano Mangiola
git_last_commit: 020c3b6
git_last_commit_date: 2025-04-15 12:13:59 -0400
nebbiolo2Linux (Ubuntu 24.04.3 LTS) / x86_64  OK    OK    OK  UNNEEDED, same version is already published
lconwaymacOS 12.7.1 Monterey / x86_64  OK    OK    OK    OK  UNNEEDED, same version is already published
kjohnson3macOS 13.7.7 Ventura / arm64  OK    OK    OK    OK  UNNEEDED, same version is already published
taishanLinux (openEuler 24.03 LTS) / aarch64  OK    OK    OK  
Package 192/213HostnameOS / ArchINSTALLBUILDCHECKBUILD BIN
tidySpatialExperiment 1.5.0  (landing page)
William Hutchison
git_last_commit: 3cac96f
git_last_commit_date: 2025-04-15 13:27:14 -0400
nebbiolo2Linux (Ubuntu 24.04.3 LTS) / x86_64  OK    OK    OK  UNNEEDED, same version is already published
lconwaymacOS 12.7.1 Monterey / x86_64  OK    OK    OK    OK  UNNEEDED, same version is already published
kjohnson3macOS 13.7.7 Ventura / arm64  OK    OK    OK    OK  UNNEEDED, same version is already published
taishanLinux (openEuler 24.03 LTS) / aarch64  OK    OK    OK  
Package 193/213HostnameOS / ArchINSTALLBUILDCHECKBUILD BIN
tpSVG 1.5.0  (landing page)
Boyi Guo
git_last_commit: 98f4d48
git_last_commit_date: 2025-04-15 13:29:49 -0400
nebbiolo2Linux (Ubuntu 24.04.3 LTS) / x86_64  OK    OK    OK  UNNEEDED, same version is already published
lconwaymacOS 12.7.1 Monterey / x86_64  OK    OK    OK    OK  UNNEEDED, same version is already published
kjohnson3macOS 13.7.7 Ventura / arm64  OK    OK    OK    OK  UNNEEDED, same version is already published
taishanLinux (openEuler 24.03 LTS) / aarch64  OK    OK    OK  
Package 194/213HostnameOS / ArchINSTALLBUILDCHECKBUILD BIN
tradeSeq 1.23.0  (landing page)
Hector Roux de Bezieux
git_last_commit: c2e9566
git_last_commit_date: 2025-04-15 11:52:32 -0400
nebbiolo2Linux (Ubuntu 24.04.3 LTS) / x86_64  OK    OK    OK  UNNEEDED, same version is already published
lconwaymacOS 12.7.1 Monterey / x86_64  OK    OK    OK    OK  UNNEEDED, same version is already published
kjohnson3macOS 13.7.7 Ventura / arm64  OK    OK    OK    OK  UNNEEDED, same version is already published
taishanLinux (openEuler 24.03 LTS) / aarch64  OK    OK    OK  
Package 195/213HostnameOS / ArchINSTALLBUILDCHECKBUILD BIN
TrajectoryUtils 1.17.0  (landing page)
Aaron Lun
git_last_commit: 172629d
git_last_commit_date: 2025-04-15 12:18:46 -0400
nebbiolo2Linux (Ubuntu 24.04.3 LTS) / x86_64  OK    OK    OK  UNNEEDED, same version is already published
lconwaymacOS 12.7.1 Monterey / x86_64  OK    OK    OK    OK  UNNEEDED, same version is already published
kjohnson3macOS 13.7.7 Ventura / arm64  OK    OK    OK    OK  UNNEEDED, same version is already published
taishanLinux (openEuler 24.03 LTS) / aarch64  OK    OK    OK  
Package 196/213HostnameOS / ArchINSTALLBUILDCHECKBUILD BIN
traviz 1.15.1  (landing page)
Koen Van den Berge
git_last_commit: 3aa81b6
git_last_commit_date: 2025-07-24 09:45:40 -0400
nebbiolo2Linux (Ubuntu 24.04.3 LTS) / x86_64  ERROR    ERROR  skipped
lconwaymacOS 12.7.1 Monterey / x86_64  ERROR    ERROR  skippedskipped
kjohnson3macOS 13.7.7 Ventura / arm64  ERROR    ERROR  skippedskipped
taishanLinux (openEuler 24.03 LTS) / aarch64  ERROR    ERROR  skipped
Package 197/213HostnameOS / ArchINSTALLBUILDCHECKBUILD BIN
treekoR 1.17.0  (landing page)
Adam Chan
git_last_commit: 66405c8
git_last_commit_date: 2025-04-15 12:27:19 -0400
nebbiolo2Linux (Ubuntu 24.04.3 LTS) / x86_64  OK    OK    OK  UNNEEDED, same version is already published
lconwaymacOS 12.7.1 Monterey / x86_64  OK    OK    OK    OK  UNNEEDED, same version is already published
kjohnson3macOS 13.7.7 Ventura / arm64  OK    OK    OK    OK  UNNEEDED, same version is already published
taishanLinux (openEuler 24.03 LTS) / aarch64  OK    OK    OK  
Package 198/213HostnameOS / ArchINSTALLBUILDCHECKBUILD BIN
TreeSummarizedExperiment 2.17.1  (landing page)
Ruizhu Huang
git_last_commit: daaf32f
git_last_commit_date: 2025-07-22 04:49:31 -0400
nebbiolo2Linux (Ubuntu 24.04.3 LTS) / x86_64  OK    OK    OK  UNNEEDED, same version is already published
lconwaymacOS 12.7.1 Monterey / x86_64  OK    OK    OK    OK  UNNEEDED, same version is already published
kjohnson3macOS 13.7.7 Ventura / arm64  OK    OK    OK    OK  UNNEEDED, same version is already published
taishanLinux (openEuler 24.03 LTS) / aarch64  OK    OK    OK  
Package 199/213HostnameOS / ArchINSTALLBUILDCHECKBUILD BIN
tricycle 1.17.0  (landing page)
Shijie Zheng
git_last_commit: 5702fcc
git_last_commit_date: 2025-04-15 12:27:00 -0400
nebbiolo2Linux (Ubuntu 24.04.3 LTS) / x86_64  OK    OK    WARNINGS  UNNEEDED, same version is already published
lconwaymacOS 12.7.1 Monterey / x86_64  OK    OK    WARNINGS    OK  UNNEEDED, same version is already published
kjohnson3macOS 13.7.7 Ventura / arm64  OK    OK    WARNINGS    OK  UNNEEDED, same version is already published
taishanLinux (openEuler 24.03 LTS) / aarch64  OK    OK    WARNINGS  
Package 200/213HostnameOS / ArchINSTALLBUILDCHECKBUILD BIN
TSCAN 1.47.0  (landing page)
Zhicheng Ji
git_last_commit: 4ad8d71
git_last_commit_date: 2025-04-15 10:33:59 -0400
nebbiolo2Linux (Ubuntu 24.04.3 LTS) / x86_64  OK    OK    OK  UNNEEDED, same version is already published
lconwaymacOS 12.7.1 Monterey / x86_64  OK    OK    OK    OK  UNNEEDED, same version is already published
kjohnson3macOS 13.7.7 Ventura / arm64  OK    OK    OK    OK  UNNEEDED, same version is already published
taishanLinux (openEuler 24.03 LTS) / aarch64  OK    OK    OK  
Package 201/213HostnameOS / ArchINSTALLBUILDCHECKBUILD BIN
UCell 2.13.3  (landing page)
Massimo Andreatta
git_last_commit: 6bf47c6
git_last_commit_date: 2025-10-01 10:49:22 -0400
nebbiolo2Linux (Ubuntu 24.04.3 LTS) / x86_64  OK    OK    OK  UNNEEDED, same version is already published
lconwaymacOS 12.7.1 Monterey / x86_64  OK    OK    OK    OK  UNNEEDED, same version is already published
kjohnson3macOS 13.7.7 Ventura / arm64  OK    OK    OK    OK  UNNEEDED, same version is already published
taishanLinux (openEuler 24.03 LTS) / aarch64  OK    OK    OK  
Package 202/213HostnameOS / ArchINSTALLBUILDCHECKBUILD BIN
VAExprs 1.15.0  (landing page)
Dongmin Jung
git_last_commit: 57cbbb9
git_last_commit_date: 2025-04-15 12:35:46 -0400
nebbiolo2Linux (Ubuntu 24.04.3 LTS) / x86_64  OK    OK    OK  UNNEEDED, same version is already published
lconwaymacOS 12.7.1 Monterey / x86_64  OK    ERROR  skippedskipped
kjohnson3macOS 13.7.7 Ventura / arm64  OK    OK    OK    OK  UNNEEDED, same version is already published
taishanLinux (openEuler 24.03 LTS) / aarch64  OK    OK    OK  
Package 203/213HostnameOS / ArchINSTALLBUILDCHECKBUILD BIN
VDJdive 1.11.0  (landing page)
Kelly Street
git_last_commit: 7ce9ba7
git_last_commit_date: 2025-04-15 12:55:29 -0400
nebbiolo2Linux (Ubuntu 24.04.3 LTS) / x86_64  OK    OK    OK  UNNEEDED, same version is already published
lconwaymacOS 12.7.1 Monterey / x86_64  OK    OK    OK    OK  UNNEEDED, same version is already published
kjohnson3macOS 13.7.7 Ventura / arm64  OK    OK    OK    OK  UNNEEDED, same version is already published
taishanLinux (openEuler 24.03 LTS) / aarch64  OK    OK    OK  
Package 204/213HostnameOS / ArchINSTALLBUILDCHECKBUILD BIN
velociraptor 1.19.1  (landing page)
Kevin Rue-Albrecht
git_last_commit: 7b11f27
git_last_commit_date: 2025-07-08 08:09:03 -0400
nebbiolo2Linux (Ubuntu 24.04.3 LTS) / x86_64  OK    OK    ERROR  
lconwaymacOS 12.7.1 Monterey / x86_64  OK    OK    OK    OK  UNNEEDED, same version is already published
kjohnson3macOS 13.7.7 Ventura / arm64  OK    ERROR  skippedskipped
taishanLinux (openEuler 24.03 LTS) / aarch64  OK    ERROR  skipped
Package 205/213HostnameOS / ArchINSTALLBUILDCHECKBUILD BIN
VisiumIO 1.5.6  (landing page)
Marcel Ramos
git_last_commit: 0ffa1d4
git_last_commit_date: 2025-05-07 11:07:34 -0400
nebbiolo2Linux (Ubuntu 24.04.3 LTS) / x86_64  OK    OK    OK  UNNEEDED, same version is already published
lconwaymacOS 12.7.1 Monterey / x86_64  OK    OK    OK    OK  UNNEEDED, same version is already published
kjohnson3macOS 13.7.7 Ventura / arm64  OK    OK    OK    OK  UNNEEDED, same version is already published
taishanLinux (openEuler 24.03 LTS) / aarch64  OK    OK    OK  
Package 206/213HostnameOS / ArchINSTALLBUILDCHECKBUILD BIN
visiumStitched 1.1.1  (landing page)
Nicholas J. Eagles
git_last_commit: e50a72d
git_last_commit_date: 2025-09-26 10:24:43 -0400
nebbiolo2Linux (Ubuntu 24.04.3 LTS) / x86_64  OK    OK    OK  UNNEEDED, same version is already published
lconwaymacOS 12.7.1 Monterey / x86_64  OK    OK    OK    OK  UNNEEDED, same version is already published
kjohnson3macOS 13.7.7 Ventura / arm64  OK    OK    OK    OK  UNNEEDED, same version is already published
taishanLinux (openEuler 24.03 LTS) / aarch64  OK    OK    OK  
Package 207/213HostnameOS / ArchINSTALLBUILDCHECKBUILD BIN
Voyager 1.11.0  (landing page)
Lambda Moses
git_last_commit: 7cd5ab1
git_last_commit_date: 2025-09-15 22:18:05 -0400
nebbiolo2Linux (Ubuntu 24.04.3 LTS) / x86_64  OK    OK    WARNINGS  UNNEEDED, same version is already published
lconwaymacOS 12.7.1 Monterey / x86_64  OK    OK    WARNINGS    OK  UNNEEDED, same version is already published
kjohnson3macOS 13.7.7 Ventura / arm64  OK    OK    WARNINGS    OK  UNNEEDED, same version is already published
taishanLinux (openEuler 24.03 LTS) / aarch64  OK    OK    WARNINGS  
Package 208/213HostnameOS / ArchINSTALLBUILDCHECKBUILD BIN
waddR 1.23.0  (landing page)
Julian Flesch
git_last_commit: f18a6cc
git_last_commit_date: 2025-04-15 11:51:38 -0400
nebbiolo2Linux (Ubuntu 24.04.3 LTS) / x86_64  OK    OK    OK  UNNEEDED, same version is already published
lconwaymacOS 12.7.1 Monterey / x86_64  OK    ERROR  skippedskipped
kjohnson3macOS 13.7.7 Ventura / arm64  OK    ERROR  skippedskipped
taishanLinux (openEuler 24.03 LTS) / aarch64  OK    OK    OK  
Package 209/213HostnameOS / ArchINSTALLBUILDCHECKBUILD BIN
xCell2 1.1.0  (landing page)
Almog Angel
git_last_commit: cf18095
git_last_commit_date: 2025-04-15 13:45:48 -0400
nebbiolo2Linux (Ubuntu 24.04.3 LTS) / x86_64  OK    OK    OK  UNNEEDED, same version is already published
lconwaymacOS 12.7.1 Monterey / x86_64  OK    OK    OK    OK  UNNEEDED, same version is already published
kjohnson3macOS 13.7.7 Ventura / arm64  OK    OK    OK    OK  UNNEEDED, same version is already published
taishanLinux (openEuler 24.03 LTS) / aarch64  OK    OK    OK  
Package 210/213HostnameOS / ArchINSTALLBUILDCHECKBUILD BIN
XeniumIO 1.1.3  (landing page)
Marcel Ramos
git_last_commit: 94e988c
git_last_commit_date: 2025-07-03 16:58:11 -0400
nebbiolo2Linux (Ubuntu 24.04.3 LTS) / x86_64  OK    OK    OK  UNNEEDED, same version is already published
lconwaymacOS 12.7.1 Monterey / x86_64  OK    OK    OK    OK  UNNEEDED, same version is already published
kjohnson3macOS 13.7.7 Ventura / arm64  OK    OK    OK    OK  UNNEEDED, same version is already published
taishanLinux (openEuler 24.03 LTS) / aarch64  OK    ERROR  skipped
Package 211/213HostnameOS / ArchINSTALLBUILDCHECKBUILD BIN
xenLite 1.3.0  (landing page)
Vincent Carey
git_last_commit: b3b7b53
git_last_commit_date: 2025-04-15 13:39:59 -0400
nebbiolo2Linux (Ubuntu 24.04.3 LTS) / x86_64  OK    OK    OK  UNNEEDED, same version is already published
lconwaymacOS 12.7.1 Monterey / x86_64  OK    OK    OK    OK  UNNEEDED, same version is already published
kjohnson3macOS 13.7.7 Ventura / arm64  OK    OK    OK    OK  UNNEEDED, same version is already published
taishanLinux (openEuler 24.03 LTS) / aarch64  OK    ERROR  skipped
Package 212/213HostnameOS / ArchINSTALLBUILDCHECKBUILD BIN
zellkonverter 1.19.2  (landing page)
Luke Zappia
git_last_commit: 51dc46a
git_last_commit_date: 2025-06-19 04:01:07 -0400
nebbiolo2Linux (Ubuntu 24.04.3 LTS) / x86_64  OK    OK    OK  UNNEEDED, same version is already published
lconwaymacOS 12.7.1 Monterey / x86_64  OK    OK    OK    OK  UNNEEDED, same version is already published
kjohnson3macOS 13.7.7 Ventura / arm64  OK    OK    OK    OK  UNNEEDED, same version is already published
taishanLinux (openEuler 24.03 LTS) / aarch64  OK    OK    OK  
Package 213/213HostnameOS / ArchINSTALLBUILDCHECKBUILD BIN
zinbwave 1.31.0  (landing page)
Davide Risso
git_last_commit: c6e6f01
git_last_commit_date: 2025-04-15 11:11:44 -0400
nebbiolo2Linux (Ubuntu 24.04.3 LTS) / x86_64  OK    OK    OK  UNNEEDED, same version is already published
lconwaymacOS 12.7.1 Monterey / x86_64  OK    OK    OK    OK  UNNEEDED, same version is already published
kjohnson3macOS 13.7.7 Ventura / arm64  OK    OK    OK    OK  UNNEEDED, same version is already published
taishanLinux (openEuler 24.03 LTS) / aarch64  OK    OK    OK