Package: SimFFPE Version: 1.21.0 Command: /Library/Frameworks/R.framework/Resources/bin/R CMD INSTALL SimFFPE StartedAt: 2025-07-07 15:17:11 -0400 (Mon, 07 Jul 2025) EndedAt: 2025-07-07 15:17:31 -0400 (Mon, 07 Jul 2025) EllapsedTime: 19.8 seconds RetCode: 0 Status: OK