Package: SimFFPE Version: 1.21.0 Command: /Library/Frameworks/R.framework/Resources/bin/R CMD check --install=check:SimFFPE.install-out.txt --library=/Library/Frameworks/R.framework/Resources/library --no-vignettes --timings SimFFPE_1.21.0.tar.gz StartedAt: 2025-07-07 23:36:46 -0400 (Mon, 07 Jul 2025) EndedAt: 2025-07-07 23:41:28 -0400 (Mon, 07 Jul 2025) EllapsedTime: 281.2 seconds RetCode: 0 Status: OK CheckDir: SimFFPE.Rcheck Warnings: 0