Package: SimFFPE Version: 1.21.0 Command: /Library/Frameworks/R.framework/Resources/bin/R CMD build --keep-empty-dirs --no-resave-data SimFFPE StartedAt: 2025-07-07 18:31:23 -0400 (Mon, 07 Jul 2025) EndedAt: 2025-07-07 18:33:05 -0400 (Mon, 07 Jul 2025) EllapsedTime: 101.7 seconds RetCode: 0 Status: OK PackageFile: SimFFPE_1.21.0.tar.gz PackageFileSize: 748.9 KiB