Package: SimFFPE Version: 1.21.0 Command: /Library/Frameworks/R.framework/Resources/bin/R CMD build --keep-empty-dirs --no-resave-data SimFFPE StartedAt: 2025-07-13 17:34:37 -0400 (Sun, 13 Jul 2025) EndedAt: 2025-07-13 17:35:12 -0400 (Sun, 13 Jul 2025) EllapsedTime: 35.4 seconds RetCode: 0 Status: OK PackageFile: SimFFPE_1.21.0.tar.gz PackageFileSize: 749.2 KiB