Package: SimBu Version: 1.11.0 Command: /home/biocbuild/R/R/bin/R CMD INSTALL SimBu StartedAt: 2025-06-30 20:33:23 -0000 (Mon, 30 Jun 2025) EndedAt: 2025-06-30 20:33:31 -0000 (Mon, 30 Jun 2025) EllapsedTime: 7.3 seconds RetCode: 0 Status: OK