Package: SimBu Version: 1.11.0 Command: /home/biocbuild/R/R/bin/R CMD check --install=check:SimBu.install-out.txt --library=/home/biocbuild/R/R/site-library --no-vignettes --timings SimBu_1.11.0.tar.gz StartedAt: 2025-07-01 11:46:53 -0000 (Tue, 01 Jul 2025) EndedAt: 2025-07-01 11:50:10 -0000 (Tue, 01 Jul 2025) EllapsedTime: 196.3 seconds RetCode: 0 Status: OK CheckDir: SimBu.Rcheck Warnings: 0