Package: SimBu Version: 1.11.0 Command: /home/biocbuild/R/R/bin/R CMD build --keep-empty-dirs --no-resave-data SimBu StartedAt: 2025-07-01 03:01:14 -0000 (Tue, 01 Jul 2025) EndedAt: 2025-07-01 03:02:18 -0000 (Tue, 01 Jul 2025) EllapsedTime: 64.1 seconds RetCode: 0 Status: OK PackageFile: SimBu_1.11.0.tar.gz PackageFileSize: 136 KiB