Package: SimBu Version: 1.11.0 Command: F:\biocbuild\bbs-3.22-bioc\R\bin\R.exe CMD INSTALL SimBu StartedAt: 2025-07-21 16:13:19 -0400 (Mon, 21 Jul 2025) EndedAt: 2025-07-21 16:13:41 -0400 (Mon, 21 Jul 2025) EllapsedTime: 21.9 seconds RetCode: 0 Status: OK