Package: SimBu Version: 1.11.0 Command: F:\biocbuild\bbs-3.22-bioc\R\bin\R.exe CMD check --no-multiarch --install=check:SimBu.install-out.txt --library=F:\biocbuild\bbs-3.22-bioc\R\library --no-vignettes --timings SimBu_1.11.0.tar.gz StartedAt: 2025-07-22 06:48:12 -0400 (Tue, 22 Jul 2025) EndedAt: 2025-07-22 06:51:38 -0400 (Tue, 22 Jul 2025) EllapsedTime: 206.5 seconds RetCode: 0 Status: OK CheckDir: SimBu.Rcheck Warnings: 0