Package: SimBu Version: 1.11.0 Command: chmod a+r SimBu -R && F:\biocbuild\bbs-3.22-bioc\R\bin\R.exe CMD build --keep-empty-dirs --no-resave-data SimBu StartedAt: 2025-07-21 22:12:11 -0400 (Mon, 21 Jul 2025) EndedAt: 2025-07-21 22:13:28 -0400 (Mon, 21 Jul 2025) EllapsedTime: 77.9 seconds RetCode: 0 Status: OK PackageFile: SimBu_1.11.0.tar.gz PackageFileSize: 115.5 KiB