Package: SimBu Version: 1.11.0 Command: rm -rf SimBu.buildbin-libdir && mkdir SimBu.buildbin-libdir && F:\biocbuild\bbs-3.22-bioc\R\bin\R.exe CMD INSTALL --build --library=SimBu.buildbin-libdir SimBu_1.11.0.tar.gz StartedAt: 2025-07-22 10:09:33 -0400 (Tue, 22 Jul 2025) EndedAt: 2025-07-22 10:09:55 -0400 (Tue, 22 Jul 2025) EllapsedTime: 21.8 seconds RetCode: 0 Status: OK PackageFile: SimBu_1.11.0.zip PackageFileSize: 230.4 KiB