Package: SimBu Version: 1.11.0 Command: /Library/Frameworks/R.framework/Resources/bin/R CMD check --install=check:SimBu.install-out.txt --library=/Library/Frameworks/R.framework/Resources/library --no-vignettes --timings SimBu_1.11.0.tar.gz StartedAt: 2025-06-29 23:22:54 -0400 (Sun, 29 Jun 2025) EndedAt: 2025-06-29 23:26:15 -0400 (Sun, 29 Jun 2025) EllapsedTime: 200.9 seconds RetCode: 0 Status: OK CheckDir: SimBu.Rcheck Warnings: 0