Package: SimBu Version: 1.11.0 Command: /Library/Frameworks/R.framework/Resources/bin/R CMD build --keep-empty-dirs --no-resave-data SimBu StartedAt: 2025-06-29 18:20:37 -0400 (Sun, 29 Jun 2025) EndedAt: 2025-06-29 18:21:29 -0400 (Sun, 29 Jun 2025) EllapsedTime: 52.6 seconds RetCode: 0 Status: OK PackageFile: SimBu_1.11.0.tar.gz PackageFileSize: 221.4 KiB