Package: SimBu Version: 1.11.0 Command: /Library/Frameworks/R.framework/Resources/bin/R CMD INSTALL SimBu StartedAt: 2025-06-29 15:12:03 -0400 (Sun, 29 Jun 2025) EndedAt: 2025-06-29 15:12:07 -0400 (Sun, 29 Jun 2025) EllapsedTime: 3.2 seconds RetCode: 0 Status: OK