Package: SimBu Version: 1.11.0 Command: rm -rf SimBu.buildbin-libdir && mkdir SimBu.buildbin-libdir && /Users/biocbuild/BBS/utils/build-universal.sh SimBu_1.11.0.tar.gz /Library/Frameworks/R.framework/Resources/bin/R SimBu.buildbin-libdir StartedAt: 2025-06-29 22:34:32 -0400 (Sun, 29 Jun 2025) EndedAt: 2025-06-29 22:34:36 -0400 (Sun, 29 Jun 2025) EllapsedTime: 4.1 seconds RetCode: 0 Status: OK PackageFile: SimBu_1.11.0.tgz PackageFileSize: 326.7 KiB