Package: SigsPack Version: 1.23.0 Command: /home/biocbuild/R/R/bin/R CMD build --keep-empty-dirs --no-resave-data SigsPack StartedAt: 2025-10-07 02:58:36 -0000 (Tue, 07 Oct 2025) EndedAt: 2025-10-07 03:00:27 -0000 (Tue, 07 Oct 2025) EllapsedTime: 111.1 seconds RetCode: 0 Status: OK PackageFile: SigsPack_1.23.0.tar.gz PackageFileSize: 471.8 KiB