Package: SigsPack Version: 1.23.0 Command: /Library/Frameworks/R.framework/Resources/bin/R CMD check --install=check:SigsPack.install-out.txt --library=/Library/Frameworks/R.framework/Resources/library --no-vignettes --timings SigsPack_1.23.0.tar.gz StartedAt: 2025-10-07 00:48:10 -0400 (Tue, 07 Oct 2025) EndedAt: 2025-10-07 00:50:53 -0400 (Tue, 07 Oct 2025) EllapsedTime: 163.3 seconds RetCode: 0 Status: OK CheckDir: SigsPack.Rcheck Warnings: 0