Package: SigsPack Version: 1.23.0 Command: /Library/Frameworks/R.framework/Resources/bin/R CMD INSTALL SigsPack StartedAt: 2025-10-05 15:22:11 -0400 (Sun, 05 Oct 2025) EndedAt: 2025-10-05 15:22:12 -0400 (Sun, 05 Oct 2025) EllapsedTime: 1.2 seconds RetCode: 0 Status: OK