Package: SigsPack Version: 1.23.0 Command: /Library/Frameworks/R.framework/Resources/bin/R CMD build --keep-empty-dirs --no-resave-data SigsPack StartedAt: 2025-10-05 17:47:49 -0400 (Sun, 05 Oct 2025) EndedAt: 2025-10-05 17:48:37 -0400 (Sun, 05 Oct 2025) EllapsedTime: 47.6 seconds RetCode: 0 Status: OK PackageFile: SigsPack_1.23.0.tar.gz PackageFileSize: 526.7 KiB