Package: SigFuge Version: 1.47.0 Command: /home/biocbuild/R/R/bin/R CMD INSTALL SigFuge StartedAt: 2025-07-17 20:43:16 -0000 (Thu, 17 Jul 2025) EndedAt: 2025-07-17 20:43:31 -0000 (Thu, 17 Jul 2025) EllapsedTime: 15.0 seconds RetCode: 0 Status: OK