Package: SigFuge Version: 1.47.0 Command: /home/biocbuild/R/R/bin/R CMD check --install=check:SigFuge.install-out.txt --library=/home/biocbuild/R/R/site-library --no-vignettes --timings SigFuge_1.47.0.tar.gz StartedAt: 2025-07-22 11:44:34 -0000 (Tue, 22 Jul 2025) EndedAt: 2025-07-22 11:47:08 -0000 (Tue, 22 Jul 2025) EllapsedTime: 154.3 seconds RetCode: 0 Status: OK CheckDir: SigFuge.Rcheck Warnings: 0