Package: SigFuge Version: 1.47.0 Command: /home/biocbuild/R/R/bin/R CMD build --keep-empty-dirs --no-resave-data SigFuge StartedAt: 2025-07-18 03:07:34 -0000 (Fri, 18 Jul 2025) EndedAt: 2025-07-18 03:08:48 -0000 (Fri, 18 Jul 2025) EllapsedTime: 74.0 seconds RetCode: 0 Status: OK PackageFile: SigFuge_1.47.0.tar.gz PackageFileSize: 1.446 MiB