Package: SigFuge Version: 1.47.0 Command: /Library/Frameworks/R.framework/Resources/bin/R CMD INSTALL SigFuge StartedAt: 2025-10-05 15:30:23 -0400 (Sun, 05 Oct 2025) EndedAt: 2025-10-05 15:30:41 -0400 (Sun, 05 Oct 2025) EllapsedTime: 18.0 seconds RetCode: 0 Status: OK