Package: SigFuge Version: 1.47.0 Command: /Library/Frameworks/R.framework/Resources/bin/R CMD check --install=check:SigFuge.install-out.txt --library=/Library/Frameworks/R.framework/Resources/library --no-vignettes --timings SigFuge_1.47.0.tar.gz StartedAt: 2025-09-11 00:53:01 -0400 (Thu, 11 Sep 2025) EndedAt: 2025-09-11 00:55:05 -0400 (Thu, 11 Sep 2025) EllapsedTime: 124.4 seconds RetCode: 0 Status: OK CheckDir: SigFuge.Rcheck Warnings: 0