Package: SigFuge Version: 1.47.0 Command: rm -rf SigFuge.buildbin-libdir && mkdir SigFuge.buildbin-libdir && /Users/biocbuild/BBS/utils/build-universal.sh SigFuge_1.47.0.tar.gz /Library/Frameworks/R.framework/Resources/bin/R SigFuge.buildbin-libdir StartedAt: 2025-09-11 02:34:20 -0400 (Thu, 11 Sep 2025) EndedAt: 2025-09-11 02:34:40 -0400 (Thu, 11 Sep 2025) EllapsedTime: 19.7 seconds RetCode: 0 Status: OK PackageFile: SigFuge_1.47.0.tgz PackageFileSize: 1.493 MiB