Package: SigFuge Version: 1.47.0 Command: /Library/Frameworks/R.framework/Resources/bin/R CMD INSTALL SigFuge StartedAt: 2025-10-05 15:17:50 -0400 (Sun, 05 Oct 2025) EndedAt: 2025-10-05 15:17:56 -0400 (Sun, 05 Oct 2025) EllapsedTime: 6.1 seconds RetCode: 0 Status: OK